BEGIN:VCALENDAR
VERSION:2.0
PRODID:-//KA2 Samverkansgrupp - ECPv6.15.20//NONSGML v1.0//EN
CALSCALE:GREGORIAN
METHOD:PUBLISH
X-ORIGINAL-URL:https://ka2samverkan.se
X-WR-CALDESC:Händelser för KA2 Samverkansgrupp
REFRESH-INTERVAL;VALUE=DURATION:PT1H
X-Robots-Tag:noindex
X-PUBLISHED-TTL:PT1H
BEGIN:VTIMEZONE
TZID:Europe/Stockholm
BEGIN:DAYLIGHT
TZOFFSETFROM:+0100
TZOFFSETTO:+0200
TZNAME:CEST
DTSTART:20220327T010000
END:DAYLIGHT
BEGIN:STANDARD
TZOFFSETFROM:+0200
TZOFFSETTO:+0100
TZNAME:CET
DTSTART:20221030T010000
END:STANDARD
BEGIN:DAYLIGHT
TZOFFSETFROM:+0100
TZOFFSETTO:+0200
TZNAME:CEST
DTSTART:20230326T010000
END:DAYLIGHT
BEGIN:STANDARD
TZOFFSETFROM:+0200
TZOFFSETTO:+0100
TZNAME:CET
DTSTART:20231029T010000
END:STANDARD
BEGIN:DAYLIGHT
TZOFFSETFROM:+0100
TZOFFSETTO:+0200
TZNAME:CEST
DTSTART:20240331T010000
END:DAYLIGHT
BEGIN:STANDARD
TZOFFSETFROM:+0200
TZOFFSETTO:+0100
TZNAME:CET
DTSTART:20241027T010000
END:STANDARD
END:VTIMEZONE
BEGIN:VEVENT
DTSTART;TZID=Europe/Stockholm:20230808T140000
DTEND;TZID=Europe/Stockholm:20230808T160000
DTSTAMP:20260425T174338
CREATED:20230307T084027Z
LAST-MODIFIED:20230307T084027Z
UID:396-1691503200-1691510400@ka2samverkan.se
SUMMARY:KA 2 Kamratträff SAGA
DESCRIPTION:
URL:https://ka2samverkan.se/event/ka-2-kamrattraff-saga-4/
CATEGORIES:KA 2 Kamratförening,Lokalbokning SAGA
END:VEVENT
BEGIN:VEVENT
DTSTART;TZID=Europe/Stockholm:20230817T170000
DTEND;TZID=Europe/Stockholm:20230817T230000
DTSTAMP:20260425T174338
CREATED:20230307T084418Z
LAST-MODIFIED:20230307T084418Z
UID:406-1692291600-1692313200@ka2samverkan.se
SUMMARY:Grillkväll med Flottans Män
DESCRIPTION:
URL:https://ka2samverkan.se/event/grillkvall-med-flottans-man/
CATEGORIES:KA 2 Kamratförening
END:VEVENT
BEGIN:VEVENT
DTSTART;VALUE=DATE:20230825
DTEND;VALUE=DATE:20230828
DTSTAMP:20260425T174338
CREATED:20230307T084545Z
LAST-MODIFIED:20230307T084545Z
UID:408-1692921600-1693180799@ka2samverkan.se
SUMMARY:Kamratträff KA 5
DESCRIPTION:
URL:https://ka2samverkan.se/event/kamrattraff-ka-5/
CATEGORIES:KA 2 Kamratförening
END:VEVENT
END:VCALENDAR