BEGIN:VCALENDAR
VERSION:2.0
PRODID:-//KA2 Samverkansgrupp - ECPv6.15.20//NONSGML v1.0//EN
CALSCALE:GREGORIAN
METHOD:PUBLISH
X-ORIGINAL-URL:https://ka2samverkan.se
X-WR-CALDESC:Händelser för KA2 Samverkansgrupp
REFRESH-INTERVAL;VALUE=DURATION:PT1H
X-Robots-Tag:noindex
X-PUBLISHED-TTL:PT1H
BEGIN:VTIMEZONE
TZID:Europe/Stockholm
BEGIN:DAYLIGHT
TZOFFSETFROM:+0100
TZOFFSETTO:+0200
TZNAME:CEST
DTSTART:20220327T010000
END:DAYLIGHT
BEGIN:STANDARD
TZOFFSETFROM:+0200
TZOFFSETTO:+0100
TZNAME:CET
DTSTART:20221030T010000
END:STANDARD
BEGIN:DAYLIGHT
TZOFFSETFROM:+0100
TZOFFSETTO:+0200
TZNAME:CEST
DTSTART:20230326T010000
END:DAYLIGHT
BEGIN:STANDARD
TZOFFSETFROM:+0200
TZOFFSETTO:+0100
TZNAME:CET
DTSTART:20231029T010000
END:STANDARD
BEGIN:DAYLIGHT
TZOFFSETFROM:+0100
TZOFFSETTO:+0200
TZNAME:CEST
DTSTART:20240331T010000
END:DAYLIGHT
BEGIN:STANDARD
TZOFFSETFROM:+0200
TZOFFSETTO:+0100
TZNAME:CET
DTSTART:20241027T010000
END:STANDARD
END:VTIMEZONE
BEGIN:VEVENT
DTSTART;TZID=Europe/Stockholm:20231010T140000
DTEND;TZID=Europe/Stockholm:20231010T160000
DTSTAMP:20260425T151149
CREATED:20230307T084138Z
LAST-MODIFIED:20230307T084138Z
UID:400-1696946400-1696953600@ka2samverkan.se
SUMMARY:KA 2 Kamratträff SAGA
DESCRIPTION:
URL:https://ka2samverkan.se/event/ka-2-kamrattraff-saga-6/
CATEGORIES:KA 2 Kamratförening,Lokalbokning SAGA
END:VEVENT
BEGIN:VEVENT
DTSTART;TZID=Europe/Stockholm:20231010T140000
DTEND;TZID=Europe/Stockholm:20231010T160000
DTSTAMP:20260425T151149
CREATED:20230812T122258Z
LAST-MODIFIED:20230929T122510Z
UID:816-1696946400-1696953600@ka2samverkan.se
SUMMARY:2023-10-10 KA 2 tisdagsträffar återupptas
DESCRIPTION:Tisdagsträffarna i SAGA återupptas efter föreningslokalens renovering.\n2:a tisdagen varje månad kl 1400 träffas vi för en gemytlig fika.\nVälkomna
URL:https://ka2samverkan.se/event/2023-10-10-ka-2-tisdagstraffar-aterupptas/
LOCATION:SAGA
CATEGORIES:KA 2 Kamratförening
END:VEVENT
BEGIN:VEVENT
DTSTART;VALUE=DATE:20231018
DTEND;VALUE=DATE:20231020
DTSTAMP:20260425T151149
CREATED:20230307T084644Z
LAST-MODIFIED:20231004T082534Z
UID:410-1697587200-1697759999@ka2samverkan.se
SUMMARY:SMKR Höstmöte i Skillingaryd INSTÄLLT
DESCRIPTION:
URL:https://ka2samverkan.se/event/smkr-hostmote-i-skillingaryd/
CATEGORIES:KA 2 Kamratförening
END:VEVENT
BEGIN:VEVENT
DTSTART;TZID=Europe/Stockholm:20231026T173000
DTEND;TZID=Europe/Stockholm:20231026T220000
DTSTAMP:20260425T151149
CREATED:20230307T084746Z
LAST-MODIFIED:20230307T084746Z
UID:412-1698341400-1698357600@ka2samverkan.se
SUMMARY:KA 2 kf Höstmöte SOSK
DESCRIPTION:
URL:https://ka2samverkan.se/event/ka-2-kf-hostmote-sosk/
CATEGORIES:KA 2 Kamratförening
END:VEVENT
BEGIN:VEVENT
DTSTART;TZID=Europe/Stockholm:20231026T180000
DTEND;TZID=Europe/Stockholm:20231026T233000
DTSTAMP:20260425T151149
CREATED:20230921T122333Z
LAST-MODIFIED:20230921T122333Z
UID:758-1698343200-1698363000@ka2samverkan.se
SUMMARY:2023-10-26 KA 2 kamratförenings Höstmöte
DESCRIPTION:KA 2 kamratförening inbjuder till sedvanligt höstmöte med föreläsning av Stf C SSS\, övlt Fredrik Lindblad om ”Amfibieregemente m/ny”. Vi bjuder på en sedvanlig ”krigsrätt”\, silltallrik\, ärtsoppa och pannkakor. \nTid:               2023-10-26 kl 1800\nPlats:            Sjöofficersmässen\nPris:              250:- för medlem\, 350:- för medföljande gäster\nAnmälan:   Sker genom inbetalning till bankgiro 5584-9483 och anmälan\ntill  ka2.karlskrona@gmail.com senast 17 oktober \n                                              V ÄL K O M N A!
URL:https://ka2samverkan.se/event/2023-10-26-ka-2-kamratforenings-hostmote/
LOCATION:Sjöofficersmässen
CATEGORIES:KA 2 Kamratförening
END:VEVENT
END:VCALENDAR