BEGIN:VCALENDAR
VERSION:2.0
PRODID:-//KA2 Samverkansgrupp - ECPv6.15.20//NONSGML v1.0//EN
CALSCALE:GREGORIAN
METHOD:PUBLISH
X-ORIGINAL-URL:https://ka2samverkan.se
X-WR-CALDESC:Händelser för KA2 Samverkansgrupp
REFRESH-INTERVAL;VALUE=DURATION:PT1H
X-Robots-Tag:noindex
X-PUBLISHED-TTL:PT1H
BEGIN:VTIMEZONE
TZID:Europe/Stockholm
BEGIN:DAYLIGHT
TZOFFSETFROM:+0100
TZOFFSETTO:+0200
TZNAME:CEST
DTSTART:20230326T010000
END:DAYLIGHT
BEGIN:STANDARD
TZOFFSETFROM:+0200
TZOFFSETTO:+0100
TZNAME:CET
DTSTART:20231029T010000
END:STANDARD
BEGIN:DAYLIGHT
TZOFFSETFROM:+0100
TZOFFSETTO:+0200
TZNAME:CEST
DTSTART:20240331T010000
END:DAYLIGHT
BEGIN:STANDARD
TZOFFSETFROM:+0200
TZOFFSETTO:+0100
TZNAME:CET
DTSTART:20241027T010000
END:STANDARD
BEGIN:DAYLIGHT
TZOFFSETFROM:+0100
TZOFFSETTO:+0200
TZNAME:CEST
DTSTART:20250330T010000
END:DAYLIGHT
BEGIN:STANDARD
TZOFFSETFROM:+0200
TZOFFSETTO:+0100
TZNAME:CET
DTSTART:20251026T010000
END:STANDARD
END:VTIMEZONE
BEGIN:VEVENT
DTSTART;TZID=Europe/Stockholm:20240315T150000
DTEND;TZID=Europe/Stockholm:20240315T180000
DTSTAMP:20260425T023847
CREATED:20240111T090328Z
LAST-MODIFIED:20240111T090328Z
UID:1106-1710514800-1710525600@ka2samverkan.se
SUMMARY:OS KA 2 Trivselmöte
DESCRIPTION:
URL:https://ka2samverkan.se/event/os-ka-2-trivselmote/
LOCATION:SAGA
CATEGORIES:Lokalbokning SAGA,OS KA 2
END:VEVENT
BEGIN:VEVENT
DTSTART;TZID=Europe/Stockholm:20240325T170000
DTEND;TZID=Europe/Stockholm:20240325T190000
DTSTAMP:20260425T023847
CREATED:20240111T090426Z
LAST-MODIFIED:20240111T090426Z
UID:1108-1711386000-1711393200@ka2samverkan.se
SUMMARY:OS KA 2 Direktionsmöte
DESCRIPTION:
URL:https://ka2samverkan.se/event/os-ka-2-direktionsmote-3/
LOCATION:SAGA
CATEGORIES:Lokalbokning SAGA,OS KA 2
END:VEVENT
END:VCALENDAR