BEGIN:VCALENDAR
VERSION:2.0
PRODID:-//KA2 Samverkansgrupp - ECPv6.15.20//NONSGML v1.0//EN
CALSCALE:GREGORIAN
METHOD:PUBLISH
X-ORIGINAL-URL:https://ka2samverkan.se
X-WR-CALDESC:Händelser för KA2 Samverkansgrupp
REFRESH-INTERVAL;VALUE=DURATION:PT1H
X-Robots-Tag:noindex
X-PUBLISHED-TTL:PT1H
BEGIN:VTIMEZONE
TZID:Europe/Stockholm
BEGIN:DAYLIGHT
TZOFFSETFROM:+0100
TZOFFSETTO:+0200
TZNAME:CEST
DTSTART:20230326T010000
END:DAYLIGHT
BEGIN:STANDARD
TZOFFSETFROM:+0200
TZOFFSETTO:+0100
TZNAME:CET
DTSTART:20231029T010000
END:STANDARD
BEGIN:DAYLIGHT
TZOFFSETFROM:+0100
TZOFFSETTO:+0200
TZNAME:CEST
DTSTART:20240331T010000
END:DAYLIGHT
BEGIN:STANDARD
TZOFFSETFROM:+0200
TZOFFSETTO:+0100
TZNAME:CET
DTSTART:20241027T010000
END:STANDARD
BEGIN:DAYLIGHT
TZOFFSETFROM:+0100
TZOFFSETTO:+0200
TZNAME:CEST
DTSTART:20250330T010000
END:DAYLIGHT
BEGIN:STANDARD
TZOFFSETFROM:+0200
TZOFFSETTO:+0100
TZNAME:CET
DTSTART:20251026T010000
END:STANDARD
END:VTIMEZONE
BEGIN:VEVENT
DTSTART;VALUE=DATE:20241129
DTEND;VALUE=DATE:20241202
DTSTAMP:20260424T141940
CREATED:20240814T101941Z
LAST-MODIFIED:20240814T101941Z
UID:1492-1732838400-1733097599@ka2samverkan.se
SUMMARY:Sjövärnskåren
DESCRIPTION:Kontaktman: Adam Brus 072-220 55 44
URL:https://ka2samverkan.se/event/sjovarnskaren/
LOCATION:SAGA
CATEGORIES:Lokalbokning SAGA
END:VEVENT
BEGIN:VEVENT
DTSTART;TZID=Europe/Stockholm:20241206T160000
DTEND;TZID=Europe/Stockholm:20241206T233000
DTSTAMP:20260424T141940
CREATED:20231205T133440Z
LAST-MODIFIED:20231206T085247Z
UID:1040-1733500800-1733527800@ka2samverkan.se
SUMMARY:5.batt Julhälsning
DESCRIPTION:Freija alt Saga\nAnsv: Tommy Erlandsson\n070-650 69 21
URL:https://ka2samverkan.se/event/5-batt-julhalsning/
LOCATION:SAGA
CATEGORIES:Lokalbokning SAGA
END:VEVENT
BEGIN:VEVENT
DTSTART;VALUE=DATE:20241209
DTEND;VALUE=DATE:20241210
DTSTAMP:20260424T141940
CREATED:20240317T162446Z
LAST-MODIFIED:20240317T162632Z
UID:1284-1733702400-1733788799@ka2samverkan.se
SUMMARY:Flottans Män
DESCRIPTION:Heldag bokad
URL:https://ka2samverkan.se/event/flottans-man-2/
LOCATION:SAGA
CATEGORIES:Lokalbokning SAGA
END:VEVENT
END:VCALENDAR