BEGIN:VCALENDAR
VERSION:2.0
PRODID:-//KA2 Samverkansgrupp - ECPv6.15.20//NONSGML v1.0//EN
CALSCALE:GREGORIAN
METHOD:PUBLISH
X-ORIGINAL-URL:https://ka2samverkan.se
X-WR-CALDESC:Händelser för KA2 Samverkansgrupp
REFRESH-INTERVAL;VALUE=DURATION:PT1H
X-Robots-Tag:noindex
X-PUBLISHED-TTL:PT1H
BEGIN:VTIMEZONE
TZID:Europe/Stockholm
BEGIN:DAYLIGHT
TZOFFSETFROM:+0100
TZOFFSETTO:+0200
TZNAME:CEST
DTSTART:20240331T010000
END:DAYLIGHT
BEGIN:STANDARD
TZOFFSETFROM:+0200
TZOFFSETTO:+0100
TZNAME:CET
DTSTART:20241027T010000
END:STANDARD
BEGIN:DAYLIGHT
TZOFFSETFROM:+0100
TZOFFSETTO:+0200
TZNAME:CEST
DTSTART:20250330T010000
END:DAYLIGHT
BEGIN:STANDARD
TZOFFSETFROM:+0200
TZOFFSETTO:+0100
TZNAME:CET
DTSTART:20251026T010000
END:STANDARD
BEGIN:DAYLIGHT
TZOFFSETFROM:+0100
TZOFFSETTO:+0200
TZNAME:CEST
DTSTART:20260329T010000
END:DAYLIGHT
BEGIN:STANDARD
TZOFFSETFROM:+0200
TZOFFSETTO:+0100
TZNAME:CET
DTSTART:20261025T010000
END:STANDARD
END:VTIMEZONE
BEGIN:VEVENT
DTSTART;VALUE=DATE:20250301
DTEND;VALUE=DATE:20250303
DTSTAMP:20260424T102522
CREATED:20250203T141220Z
LAST-MODIFIED:20250203T141220Z
UID:1683-1740787200-1740959999@ka2samverkan.se
SUMMARY:3.Hkpdiv
DESCRIPTION:3.Hkpdiv\, kn Adam Brus\n072-220 55 44
URL:https://ka2samverkan.se/event/3-hkpdiv/
LOCATION:SAGA
CATEGORIES:Lokalbokning SAGA
END:VEVENT
BEGIN:VEVENT
DTSTART;TZID=Europe/Stockholm:20250311T090000
DTEND;TZID=Europe/Stockholm:20250311T130000
DTSTAMP:20260424T102522
CREATED:20241120T114106Z
LAST-MODIFIED:20241120T114106Z
UID:1624-1741683600-1741698000@ka2samverkan.se
SUMMARY:Flottans Män
DESCRIPTION:
URL:https://ka2samverkan.se/event/flottans-man-4/
CATEGORIES:Lokalbokning SAGA
END:VEVENT
END:VCALENDAR