BEGIN:VCALENDAR
VERSION:2.0
PRODID:-//KA2 Samverkansgrupp - ECPv6.15.20//NONSGML v1.0//EN
CALSCALE:GREGORIAN
METHOD:PUBLISH
X-ORIGINAL-URL:https://ka2samverkan.se
X-WR-CALDESC:Händelser för KA2 Samverkansgrupp
REFRESH-INTERVAL;VALUE=DURATION:PT1H
X-Robots-Tag:noindex
X-PUBLISHED-TTL:PT1H
BEGIN:VTIMEZONE
TZID:Europe/Stockholm
BEGIN:DAYLIGHT
TZOFFSETFROM:+0100
TZOFFSETTO:+0200
TZNAME:CEST
DTSTART:20250330T010000
END:DAYLIGHT
BEGIN:STANDARD
TZOFFSETFROM:+0200
TZOFFSETTO:+0100
TZNAME:CET
DTSTART:20251026T010000
END:STANDARD
BEGIN:DAYLIGHT
TZOFFSETFROM:+0100
TZOFFSETTO:+0200
TZNAME:CEST
DTSTART:20260329T010000
END:DAYLIGHT
BEGIN:STANDARD
TZOFFSETFROM:+0200
TZOFFSETTO:+0100
TZNAME:CET
DTSTART:20261025T010000
END:STANDARD
BEGIN:DAYLIGHT
TZOFFSETFROM:+0100
TZOFFSETTO:+0200
TZNAME:CEST
DTSTART:20270328T010000
END:DAYLIGHT
BEGIN:STANDARD
TZOFFSETFROM:+0200
TZOFFSETTO:+0100
TZNAME:CET
DTSTART:20271031T010000
END:STANDARD
END:VTIMEZONE
BEGIN:VEVENT
DTSTART;TZID=Europe/Stockholm:20260604T130000
DTEND;TZID=Europe/Stockholm:20260604T150000
DTSTAMP:20260421T211445
CREATED:20251112T134148Z
LAST-MODIFIED:20251112T134148Z
UID:1894-1780578000-1780585200@ka2samverkan.se
SUMMARY:KA 2 Muldiv\, Styrelsemöte
DESCRIPTION:
URL:https://ka2samverkan.se/event/ka-2-muldiv-styrelsemote-3/
CATEGORIES:Lokalbokning SAGA
END:VEVENT
BEGIN:VEVENT
DTSTART;TZID=Europe/Stockholm:20260604T150000
DTEND;TZID=Europe/Stockholm:20260604T190000
DTSTAMP:20260421T211445
CREATED:20251112T134015Z
LAST-MODIFIED:20251112T134015Z
UID:1892-1780585200-1780599600@ka2samverkan.se
SUMMARY:KA 2 Muldiv\, Månadsträff
DESCRIPTION:
URL:https://ka2samverkan.se/event/ka-2-muldiv-manadstraff-4/
CATEGORIES:Lokalbokning SAGA
END:VEVENT
END:VCALENDAR