BEGIN:VCALENDAR
VERSION:2.0
PRODID:-//KA2 Samverkansgrupp - ECPv6.15.20//NONSGML v1.0//EN
CALSCALE:GREGORIAN
METHOD:PUBLISH
X-WR-CALNAME:KA2 Samverkansgrupp
X-ORIGINAL-URL:https://ka2samverkan.se
X-WR-CALDESC:Händelser för KA2 Samverkansgrupp
REFRESH-INTERVAL;VALUE=DURATION:PT1H
X-Robots-Tag:noindex
X-PUBLISHED-TTL:PT1H
BEGIN:VTIMEZONE
TZID:Europe/Stockholm
BEGIN:DAYLIGHT
TZOFFSETFROM:+0100
TZOFFSETTO:+0200
TZNAME:CEST
DTSTART:20240331T010000
END:DAYLIGHT
BEGIN:STANDARD
TZOFFSETFROM:+0200
TZOFFSETTO:+0100
TZNAME:CET
DTSTART:20241027T010000
END:STANDARD
BEGIN:DAYLIGHT
TZOFFSETFROM:+0100
TZOFFSETTO:+0200
TZNAME:CEST
DTSTART:20250330T010000
END:DAYLIGHT
BEGIN:STANDARD
TZOFFSETFROM:+0200
TZOFFSETTO:+0100
TZNAME:CET
DTSTART:20251026T010000
END:STANDARD
BEGIN:DAYLIGHT
TZOFFSETFROM:+0100
TZOFFSETTO:+0200
TZNAME:CEST
DTSTART:20260329T010000
END:DAYLIGHT
BEGIN:STANDARD
TZOFFSETFROM:+0200
TZOFFSETTO:+0100
TZNAME:CET
DTSTART:20261025T010000
END:STANDARD
BEGIN:DAYLIGHT
TZOFFSETFROM:+0100
TZOFFSETTO:+0200
TZNAME:CEST
DTSTART:20270328T010000
END:DAYLIGHT
BEGIN:STANDARD
TZOFFSETFROM:+0200
TZOFFSETTO:+0100
TZNAME:CET
DTSTART:20271031T010000
END:STANDARD
END:VTIMEZONE
BEGIN:VEVENT
DTSTART;TZID=Europe/Stockholm:20260416T100000
DTEND;TZID=Europe/Stockholm:20260416T120000
DTSTAMP:20260421T170820
CREATED:20260103T111515Z
LAST-MODIFIED:20260103T111515Z
UID:1993-1776333600-1776340800@ka2samverkan.se
SUMMARY:KA 2 Kamratförening styrelsemöte
DESCRIPTION:sekr 0705-935479
URL:https://ka2samverkan.se/event/ka-2-kamratforening-styrelsemote-4/
LOCATION:SAGA
CATEGORIES:Lokalbokning SAGA
END:VEVENT
BEGIN:VEVENT
DTSTART;TZID=Europe/Stockholm:20260409T150000
DTEND;TZID=Europe/Stockholm:20260409T190000
DTSTAMP:20260421T170820
CREATED:20251112T133523Z
LAST-MODIFIED:20251112T133523Z
UID:1886-1775746800-1775761200@ka2samverkan.se
SUMMARY:KA 2 Muldiv\, Månadsträff
DESCRIPTION:
URL:https://ka2samverkan.se/event/ka-2-muldiv-manadstraff-2/
CATEGORIES:Lokalbokning SAGA
END:VEVENT
BEGIN:VEVENT
DTSTART;TZID=Europe/Stockholm:20260409T130000
DTEND;TZID=Europe/Stockholm:20260409T150000
DTSTAMP:20260421T170820
CREATED:20251112T133651Z
LAST-MODIFIED:20251112T133651Z
UID:1888-1775739600-1775746800@ka2samverkan.se
SUMMARY:KA 2 Muldiv\, Styrelsemöte
DESCRIPTION:
URL:https://ka2samverkan.se/event/ka-2-muldiv-styrelsemote-2/
CATEGORIES:Lokalbokning SAGA
END:VEVENT
BEGIN:VEVENT
DTSTART;TZID=Europe/Stockholm:20260407T170000
DTEND;TZID=Europe/Stockholm:20260407T190000
DTSTAMP:20260421T170820
CREATED:20260126T101213Z
LAST-MODIFIED:20260126T101213Z
UID:2040-1775581200-1775588400@ka2samverkan.se
SUMMARY:OS KA2  Direktionsmöte
DESCRIPTION:
URL:https://ka2samverkan.se/event/os-ka2-direktionsmote/
LOCATION:SAGA
CATEGORIES:Lokalbokning SAGA
END:VEVENT
BEGIN:VEVENT
DTSTART;TZID=Europe/Stockholm:20260323T100000
DTEND;TZID=Europe/Stockholm:20260323T120000
DTSTAMP:20260421T170820
CREATED:20260316T160511Z
LAST-MODIFIED:20260316T160511Z
UID:2089-1774260000-1774267200@ka2samverkan.se
SUMMARY:BHVS
DESCRIPTION:
URL:https://ka2samverkan.se/event/bhvs/
CATEGORIES:Lokalbokning SAGA
END:VEVENT
BEGIN:VEVENT
DTSTART;TZID=Europe/Stockholm:20260320T100000
DTEND;TZID=Europe/Stockholm:20260320T120000
DTSTAMP:20260421T170820
CREATED:20260227T100852Z
LAST-MODIFIED:20260227T100852Z
UID:2077-1774000800-1774008000@ka2samverkan.se
SUMMARY:Samverkansgruppen
DESCRIPTION:
URL:https://ka2samverkan.se/event/samverkansgruppen/
LOCATION:SAGA
CATEGORIES:KA 2 Samverkansgrupp
END:VEVENT
BEGIN:VEVENT
DTSTART;TZID=Europe/Stockholm:20260317T170000
DTEND;TZID=Europe/Stockholm:20260317T200000
DTSTAMP:20260421T170820
CREATED:20260107T181942Z
LAST-MODIFIED:20260107T181942Z
UID:2003-1773766800-1773777600@ka2samverkan.se
SUMMARY:Rörl Museum
DESCRIPTION:Styrelsemöte
URL:https://ka2samverkan.se/event/rorl-museum-4/
LOCATION:SAGA
CATEGORIES:Lokalbokning SAGA
END:VEVENT
BEGIN:VEVENT
DTSTART;TZID=Europe/Stockholm:20260313T150000
DTEND;TZID=Europe/Stockholm:20260313T180000
DTSTAMP:20260421T170820
CREATED:20260126T100521Z
LAST-MODIFIED:20260126T100521Z
UID:2038-1773414000-1773424800@ka2samverkan.se
SUMMARY:OS KA2
DESCRIPTION:Trivselafton
URL:https://ka2samverkan.se/event/os-ka2/
LOCATION:SAGA
CATEGORIES:Lokalbokning SAGA
END:VEVENT
BEGIN:VEVENT
DTSTART;VALUE=DATE:20260310
DTEND;VALUE=DATE:20260311
DTSTAMP:20260421T170820
CREATED:20260107T181556Z
LAST-MODIFIED:20260107T181556Z
UID:2001-1773100800-1773187199@ka2samverkan.se
SUMMARY:Rörl Museum
DESCRIPTION:Årsmöte
URL:https://ka2samverkan.se/event/rorl-museum-3/
LOCATION:SAGA
CATEGORIES:Lokalbokning SAGA
END:VEVENT
BEGIN:VEVENT
DTSTART;TZID=Europe/Stockholm:20260306T100000
DTEND;TZID=Europe/Stockholm:20260306T120000
DTSTAMP:20260421T170820
CREATED:20260103T111237Z
LAST-MODIFIED:20260103T111237Z
UID:1991-1772791200-1772798400@ka2samverkan.se
SUMMARY:KA 2 Kamratförening styrelsemöte
DESCRIPTION:sekr 0705-935479
URL:https://ka2samverkan.se/event/ka-2-kamratforening-styrelsemote-3/
CATEGORIES:Lokalbokning SAGA
END:VEVENT
BEGIN:VEVENT
DTSTART;TZID=Europe/Stockholm:20260305T150000
DTEND;TZID=Europe/Stockholm:20260305T190000
DTSTAMP:20260421T170820
CREATED:20251112T133412Z
LAST-MODIFIED:20251112T133412Z
UID:1884-1772722800-1772737200@ka2samverkan.se
SUMMARY:KA 2 Muldiv\, Månadsträff
DESCRIPTION:
URL:https://ka2samverkan.se/event/ka-2-muldiv-manadstraff/
CATEGORIES:Lokalbokning SAGA
END:VEVENT
BEGIN:VEVENT
DTSTART;TZID=Europe/Stockholm:20260213T120000
DTEND;TZID=Europe/Stockholm:20260213T140000
DTSTAMP:20260421T170820
CREATED:20260103T111024Z
LAST-MODIFIED:20260103T111024Z
UID:1989-1770984000-1770991200@ka2samverkan.se
SUMMARY:Samverkansgrp styrelsemöte
DESCRIPTION:sekr 0705-935479
URL:https://ka2samverkan.se/event/samverkansgrp-styrelsemote/
CATEGORIES:Lokalbokning SAGA
END:VEVENT
BEGIN:VEVENT
DTSTART;TZID=Europe/Stockholm:20260213T100000
DTEND;TZID=Europe/Stockholm:20260213T120000
DTSTAMP:20260421T170820
CREATED:20260103T110611Z
LAST-MODIFIED:20260103T110714Z
UID:1987-1770976800-1770984000@ka2samverkan.se
SUMMARY:KA 2 Kamratförening styrelsemöte
DESCRIPTION:Sekr 0705-935479
URL:https://ka2samverkan.se/event/ka-2-kamratforening-styrelsemote-2/
LOCATION:SAGA
CATEGORIES:Lokalbokning SAGA
END:VEVENT
BEGIN:VEVENT
DTSTART;TZID=Europe/Stockholm:20260210T160000
DTEND;TZID=Europe/Stockholm:20260210T200000
DTSTAMP:20260421T170820
CREATED:20260107T181349Z
LAST-MODIFIED:20260107T181349Z
UID:1999-1770739200-1770753600@ka2samverkan.se
SUMMARY:Rörl Museum
DESCRIPTION:Styrelsemöte
URL:https://ka2samverkan.se/event/rorl-museum-2/
LOCATION:SAGA
CATEGORIES:Lokalbokning SAGA
END:VEVENT
BEGIN:VEVENT
DTSTART;TZID=Europe/Stockholm:20260205T150000
DTEND;TZID=Europe/Stockholm:20260205T190000
DTSTAMP:20260421T170820
CREATED:20251112T132543Z
LAST-MODIFIED:20251112T132825Z
UID:1875-1770303600-1770318000@ka2samverkan.se
SUMMARY:KA 2 Muldiv\, Månadsträff
DESCRIPTION:
URL:https://ka2samverkan.se/event/muldiv-manadstraff/
LOCATION:SAGA
END:VEVENT
BEGIN:VEVENT
DTSTART;TZID=Europe/Stockholm:20260205T130000
DTEND;TZID=Europe/Stockholm:20260205T150000
DTSTAMP:20260421T170820
CREATED:20251112T133048Z
LAST-MODIFIED:20251112T133104Z
UID:1879-1770296400-1770303600@ka2samverkan.se
SUMMARY:KA 2 Muldiv Styrelsemöte
DESCRIPTION:
URL:https://ka2samverkan.se/event/ka-2-muldiv-styrelsemote/
LOCATION:SAGA
CATEGORIES:Lokalbokning SAGA
END:VEVENT
BEGIN:VEVENT
DTSTART;TZID=Europe/Stockholm:20260120T160000
DTEND;TZID=Europe/Stockholm:20260120T200000
DTSTAMP:20260421T170820
CREATED:20260107T180956Z
LAST-MODIFIED:20260107T180956Z
UID:1997-1768924800-1768939200@ka2samverkan.se
SUMMARY:Rörl Museum
DESCRIPTION:Styrelsemöte
URL:https://ka2samverkan.se/event/rorl-museum/
LOCATION:SAGA
CATEGORIES:Lokalbokning SAGA
END:VEVENT
BEGIN:VEVENT
DTSTART;TZID=Europe/Stockholm:20260116T100000
DTEND;TZID=Europe/Stockholm:20260116T120000
DTSTAMP:20260421T170820
CREATED:20260103T110223Z
LAST-MODIFIED:20260103T110223Z
UID:1985-1768557600-1768564800@ka2samverkan.se
SUMMARY:KA 2 Kamratförening styrelsemöte
DESCRIPTION:
URL:https://ka2samverkan.se/event/ka-2-kamratforening-styrelsemote/
LOCATION:SAGA
CATEGORIES:Lokalbokning SAGA
END:VEVENT
BEGIN:VEVENT
DTSTART;VALUE=DATE:20260103
DTEND;VALUE=DATE:20260104
DTSTAMP:20260421T170820
CREATED:20251216T095036Z
LAST-MODIFIED:20251216T095036Z
UID:1931-1767398400-1767484799@ka2samverkan.se
SUMMARY:Sjövärnskåren
DESCRIPTION:Adam Bruse  072-220 55 44
URL:https://ka2samverkan.se/event/sjovarnskaren-3/
LOCATION:SAGA
CATEGORIES:Lokalbokning SAGA
END:VEVENT
BEGIN:VEVENT
DTSTART;TZID=Europe/Stockholm:20251211T160000
DTEND;TZID=Europe/Stockholm:20251211T230000
DTSTAMP:20260421T170820
CREATED:20241108T093311Z
LAST-MODIFIED:20241108T093311Z
UID:1606-1765468800-1765494000@ka2samverkan.se
SUMMARY:KA 2 Muldiv
DESCRIPTION:Julhälsning
URL:https://ka2samverkan.se/event/ka-2-muldiv-10/
LOCATION:SAGA
CATEGORIES:MULDIV
END:VEVENT
BEGIN:VEVENT
DTSTART;TZID=Europe/Stockholm:20251209T170000
DTEND;TZID=Europe/Stockholm:20251209T200000
DTSTAMP:20260421T170820
CREATED:20241108T092139Z
LAST-MODIFIED:20241108T092139Z
UID:1586-1765299600-1765310400@ka2samverkan.se
SUMMARY:Museum Rörl KA
DESCRIPTION:
URL:https://ka2samverkan.se/event/museum-rorl-ka-11/
LOCATION:SAGA
CATEGORIES:Rörliga Museet
END:VEVENT
BEGIN:VEVENT
DTSTART;VALUE=DATE:20251208
DTEND;VALUE=DATE:20251209
DTSTAMP:20260421T170820
CREATED:20241120T114836Z
LAST-MODIFIED:20241120T115208Z
UID:1642-1765152000-1765238399@ka2samverkan.se
SUMMARY:Flottans Män Heldag
DESCRIPTION:
URL:https://ka2samverkan.se/event/flottans-man-13/
CATEGORIES:Lokalbokning SAGA
END:VEVENT
BEGIN:VEVENT
DTSTART;TZID=Europe/Stockholm:20251202T090000
DTEND;TZID=Europe/Stockholm:20251202T130000
DTSTAMP:20260421T170820
CREATED:20241120T114750Z
LAST-MODIFIED:20241120T114750Z
UID:1640-1764666000-1764680400@ka2samverkan.se
SUMMARY:Flottans Män
DESCRIPTION:
URL:https://ka2samverkan.se/event/flottans-man-12/
CATEGORIES:Lokalbokning SAGA
END:VEVENT
BEGIN:VEVENT
DTSTART;VALUE=DATE:20251128
DTEND;VALUE=DATE:20251201
DTSTAMP:20260421T170820
CREATED:20251004T212343Z
LAST-MODIFIED:20251113T082722Z
UID:1859-1764288000-1764547199@ka2samverkan.se
SUMMARY:Sjövärnskåren Adam Brus 072-2205544
DESCRIPTION:Sjövärnskåren Adam Brus 072-2205544
URL:https://ka2samverkan.se/event/1859/
LOCATION:SAGA
CATEGORIES:Lokalbokning SAGA
END:VEVENT
BEGIN:VEVENT
DTSTART;TZID=Europe/Stockholm:20251125T160000
DTEND;TZID=Europe/Stockholm:20251125T200000
DTSTAMP:20260421T170820
CREATED:20241108T092044Z
LAST-MODIFIED:20241108T092044Z
UID:1584-1764086400-1764100800@ka2samverkan.se
SUMMARY:Museum Rörl KA
DESCRIPTION:
URL:https://ka2samverkan.se/event/museum-rorl-ka-10/
LOCATION:SAGA
CATEGORIES:Rörliga Museet
END:VEVENT
BEGIN:VEVENT
DTSTART;TZID=Europe/Stockholm:20251121T100000
DTEND;TZID=Europe/Stockholm:20251121T120000
DTSTAMP:20260421T170820
CREATED:20250703T093119Z
LAST-MODIFIED:20250703T093119Z
UID:1803-1763719200-1763726400@ka2samverkan.se
SUMMARY:Kamratför Styrelsemöte
DESCRIPTION:Anne Karlsson \n0705-93 54 79
URL:https://ka2samverkan.se/event/kamratfor-styrelsemote-2/
LOCATION:SAGA
CATEGORIES:KA 2 Kamratförening
ORGANIZER;CN="Anne Karlsson":MAILTO:annkar10.hasslo@gmail.com
END:VEVENT
BEGIN:VEVENT
DTSTART;TZID=Europe/Stockholm:20251118T170000
DTEND;TZID=Europe/Stockholm:20251118T190000
DTSTAMP:20260421T170820
CREATED:20241108T090709Z
LAST-MODIFIED:20241108T090709Z
UID:1562-1763485200-1763492400@ka2samverkan.se
SUMMARY:OS KA 12 Dirmöte
DESCRIPTION:
URL:https://ka2samverkan.se/event/os-ka-12-dirmote/
LOCATION:SAGA
CATEGORIES:OS KA 2
END:VEVENT
BEGIN:VEVENT
DTSTART;TZID=Europe/Stockholm:20251111T090000
DTEND;TZID=Europe/Stockholm:20251111T130000
DTSTAMP:20260421T170820
CREATED:20241120T114659Z
LAST-MODIFIED:20241120T114659Z
UID:1638-1762851600-1762866000@ka2samverkan.se
SUMMARY:Flottans Män
DESCRIPTION:
URL:https://ka2samverkan.se/event/flottans-man-11/
CATEGORIES:Lokalbokning SAGA
END:VEVENT
BEGIN:VEVENT
DTSTART;TZID=Europe/Stockholm:20251106T130000
DTEND;TZID=Europe/Stockholm:20251106T190000
DTSTAMP:20260421T170820
CREATED:20241108T093201Z
LAST-MODIFIED:20241108T094308Z
UID:1604-1762434000-1762455600@ka2samverkan.se
SUMMARY:KA 2 Muldiv
DESCRIPTION:Styrelsemöte kl 1300-1500 \nMånadsträff kl 1500-1900
URL:https://ka2samverkan.se/event/ka-2-muldiv-9/
LOCATION:SAGA
CATEGORIES:MULDIV
END:VEVENT
BEGIN:VEVENT
DTSTART;TZID=Europe/Stockholm:20251028T160000
DTEND;TZID=Europe/Stockholm:20251028T200000
DTSTAMP:20260421T170820
CREATED:20241108T091948Z
LAST-MODIFIED:20241108T091948Z
UID:1582-1761667200-1761681600@ka2samverkan.se
SUMMARY:Museum Rörl KA
DESCRIPTION:
URL:https://ka2samverkan.se/event/museum-rorl-ka-9/
LOCATION:SAGA
CATEGORIES:Rörliga Museet
END:VEVENT
END:VCALENDAR