BEGIN:VCALENDAR
VERSION:2.0
PRODID:-//KA2 Samverkansgrupp - ECPv6.15.20//NONSGML v1.0//EN
CALSCALE:GREGORIAN
METHOD:PUBLISH
X-ORIGINAL-URL:https://ka2samverkan.se
X-WR-CALDESC:Händelser för KA2 Samverkansgrupp
REFRESH-INTERVAL;VALUE=DURATION:PT1H
X-Robots-Tag:noindex
X-PUBLISHED-TTL:PT1H
BEGIN:VTIMEZONE
TZID:Europe/Stockholm
BEGIN:DAYLIGHT
TZOFFSETFROM:+0100
TZOFFSETTO:+0200
TZNAME:CEST
DTSTART:20230326T010000
END:DAYLIGHT
BEGIN:STANDARD
TZOFFSETFROM:+0200
TZOFFSETTO:+0100
TZNAME:CET
DTSTART:20231029T010000
END:STANDARD
BEGIN:DAYLIGHT
TZOFFSETFROM:+0100
TZOFFSETTO:+0200
TZNAME:CEST
DTSTART:20240331T010000
END:DAYLIGHT
BEGIN:STANDARD
TZOFFSETFROM:+0200
TZOFFSETTO:+0100
TZNAME:CET
DTSTART:20241027T010000
END:STANDARD
BEGIN:DAYLIGHT
TZOFFSETFROM:+0100
TZOFFSETTO:+0200
TZNAME:CEST
DTSTART:20250330T010000
END:DAYLIGHT
BEGIN:STANDARD
TZOFFSETFROM:+0200
TZOFFSETTO:+0100
TZNAME:CET
DTSTART:20251026T010000
END:STANDARD
END:VTIMEZONE
BEGIN:VEVENT
DTSTART;TZID=Europe/Stockholm:20240611T090000
DTEND;TZID=Europe/Stockholm:20240611T130000
DTSTAMP:20260422T060709
CREATED:20240317T161518Z
LAST-MODIFIED:20240317T161518Z
UID:1272-1718096400-1718110800@ka2samverkan.se
SUMMARY:Styrelsemöte Flottans Män
DESCRIPTION:kl 0900-1300
URL:https://ka2samverkan.se/event/styrelsemote-flottans-man-2/
LOCATION:SAGA
CATEGORIES:Lokalbokning SAGA
END:VEVENT
BEGIN:VEVENT
DTSTART;TZID=Europe/Stockholm:20240610T100000
DTEND;TZID=Europe/Stockholm:20240610T120000
DTSTAMP:20260422T060709
CREATED:20240215T143228Z
LAST-MODIFIED:20240215T143231Z
UID:1202-1718013600-1718020800@ka2samverkan.se
SUMMARY:BHVS  Måndagsmöte på R-holm
DESCRIPTION:
URL:https://ka2samverkan.se/event/bhvs-mandagsmote-pa-r-holm-7/
END:VEVENT
BEGIN:VEVENT
DTSTART;TZID=Europe/Stockholm:20240605T120000
DTEND;TZID=Europe/Stockholm:20240605T210000
DTSTAMP:20260422T060709
CREATED:20240329T104836Z
LAST-MODIFIED:20240329T104836Z
UID:1310-1717588800-1717621200@ka2samverkan.se
SUMMARY:Lisbet Privat
DESCRIPTION:
URL:https://ka2samverkan.se/event/lisbet-privat/
CATEGORIES:Lokalbokning SAGA
END:VEVENT
BEGIN:VEVENT
DTSTART;TZID=Europe/Stockholm:20240603T100000
DTEND;TZID=Europe/Stockholm:20240603T120000
DTSTAMP:20260422T060709
CREATED:20240215T143329Z
LAST-MODIFIED:20240215T143442Z
UID:1204-1717408800-1717416000@ka2samverkan.se
SUMMARY:BHVS  Styrelsemöte i SAGA
DESCRIPTION:Dagordning skickas ut mail-ledes.
URL:https://ka2samverkan.se/event/bhvs-styrelsemote-i-saga-4/
LOCATION:SAGA
END:VEVENT
BEGIN:VEVENT
DTSTART;TZID=Europe/Stockholm:20240601T080000
DTEND;TZID=Europe/Stockholm:20240901T170000
DTSTAMP:20260422T060709
CREATED:20231207T175830Z
LAST-MODIFIED:20240414T171039Z
UID:1369-1717228800-1725210000@ka2samverkan.se
SUMMARY:2024-06-24--09-01  Aspö Museum söker nya värdar
DESCRIPTION:Är du intresserad av att vara värd under sommaren på Museum för Rörligt Kustartilleri ?\nI listan  skriver du in namn och mobilnr och markerar de dagar du inte kan gå ett pass med NEJ. Du kommer att bli kontaktad av ansvarig innan du tilldelas ett pass. \nListan önskas ifylld och lämnad/skickad senast 6 maj till:\nHans Assarsson Ö Köpmansgatan 21\, 371 13 KARLSKRONA\neller musfrka@gmail.com \nHar du några frågor eller särskilda önskemål kontakta Hans Assarsson på\n070-520 57 56
URL:https://ka2samverkan.se/event/2024-06-24-09-01-aspo-museum-soker-nya-vardar/
CATEGORIES:Rörliga Museet
END:VEVENT
BEGIN:VEVENT
DTSTART;TZID=Europe/Stockholm:20240529T080000
DTEND;TZID=Europe/Stockholm:20240529T170000
DTSTAMP:20260422T060709
CREATED:20240215T143942Z
LAST-MODIFIED:20240312T191252Z
UID:1206-1716969600-1717002000@ka2samverkan.se
SUMMARY:BHVS  Veterandagen
DESCRIPTION:Närmare info. kommer mail-ledes.
URL:https://ka2samverkan.se/event/bhvs-veterandagen/
END:VEVENT
BEGIN:VEVENT
DTSTART;TZID=Europe/Stockholm:20240527T100000
DTEND;TZID=Europe/Stockholm:20240527T120000
DTSTAMP:20260422T060709
CREATED:20240215T143107Z
LAST-MODIFIED:20240215T143110Z
UID:1200-1716804000-1716811200@ka2samverkan.se
SUMMARY:BHVS  Måndagsmöte på R-holm
DESCRIPTION:
URL:https://ka2samverkan.se/event/bhvs-mandagsmote-pa-r-holm-6/
LOCATION:Frivillighuset Rosenholm
END:VEVENT
BEGIN:VEVENT
DTSTART;TZID=Europe/Stockholm:20240521T090000
DTEND;TZID=Europe/Stockholm:20240521T130000
DTSTAMP:20260422T060709
CREATED:20240317T161245Z
LAST-MODIFIED:20240317T161245Z
UID:1270-1716282000-1716296400@ka2samverkan.se
SUMMARY:Styrelsemöte Flottans Män
DESCRIPTION:0900-100
URL:https://ka2samverkan.se/event/styrelsemote-flottans-man/
LOCATION:SAGA
CATEGORIES:Lokalbokning SAGA
END:VEVENT
BEGIN:VEVENT
DTSTART;TZID=Europe/Stockholm:20240520T100000
DTEND;TZID=Europe/Stockholm:20240520T120000
DTSTAMP:20260422T060709
CREATED:20240215T143013Z
LAST-MODIFIED:20240215T143015Z
UID:1198-1716199200-1716206400@ka2samverkan.se
SUMMARY:BHVS  Måndagsmöte på R-holm
DESCRIPTION:
URL:https://ka2samverkan.se/event/bhvs-mandagsmote-pa-r-holm-5/
LOCATION:Frivillighuset Rosenholm
END:VEVENT
BEGIN:VEVENT
DTSTART;TZID=Europe/Stockholm:20240514T160000
DTEND;TZID=Europe/Stockholm:20240514T200000
DTSTAMP:20260422T060709
CREATED:20231221T084645Z
LAST-MODIFIED:20231221T085029Z
UID:1077-1715702400-1715716800@ka2samverkan.se
SUMMARY:Museum för rörligt kustartilleri
DESCRIPTION:Styrelsemöte i SAGA
URL:https://ka2samverkan.se/event/museum-for-rorligt-kustartilleri-6/
LOCATION:SAGA
CATEGORIES:Rörliga Museet
END:VEVENT
BEGIN:VEVENT
DTSTART;VALUE=DATE:20240514
DTEND;VALUE=DATE:20240515
DTSTAMP:20260422T060709
CREATED:20231204T102432Z
LAST-MODIFIED:20240404T093118Z
UID:1332-1715644800-1715731199@ka2samverkan.se
SUMMARY:2024-05-14 Besök i Kristianopel
DESCRIPTION:Välkomna till en militärhistorisk resa med besök i Kristianopel. Anmälan sker genom inbetalning 100:- till bg 5584-9483 senast 7 maj.\nInbjudan
URL:https://ka2samverkan.se/event/2024-05-14-besok-i-kristianopel/
CATEGORIES:KA 2 Kamratförening
END:VEVENT
BEGIN:VEVENT
DTSTART;TZID=Europe/Stockholm:20240513T100000
DTEND;TZID=Europe/Stockholm:20240513T120000
DTSTAMP:20260422T060709
CREATED:20240215T142900Z
LAST-MODIFIED:20240215T142903Z
UID:1196-1715594400-1715601600@ka2samverkan.se
SUMMARY:BHVS  Måndagsmöte på R-holm
DESCRIPTION:
URL:https://ka2samverkan.se/event/bhvs-mandagsmote-pa-r-holm-4/
LOCATION:Frivillighuset Rosenholm
END:VEVENT
BEGIN:VEVENT
DTSTART;TZID=Europe/Stockholm:20240509T090000
DTEND;TZID=Europe/Stockholm:20240509T113000
DTSTAMP:20260422T060709
CREATED:20240215T142636Z
LAST-MODIFIED:20240215T142639Z
UID:1194-1715245200-1715254200@ka2samverkan.se
SUMMARY:BHVS  Gökotta/Skönstavik
DESCRIPTION:Vårt traditionella Gökotte-firande. Kallelse kommer mail-ledes.
URL:https://ka2samverkan.se/event/bhvs-gokotta-skonstavik/
LOCATION:Skönstavik
END:VEVENT
BEGIN:VEVENT
DTSTART;TZID=Europe/Stockholm:20240506T100000
DTEND;TZID=Europe/Stockholm:20240506T120000
DTSTAMP:20260422T060709
CREATED:20240215T142414Z
LAST-MODIFIED:20240215T142419Z
UID:1192-1714989600-1714996800@ka2samverkan.se
SUMMARY:BHVS  Styrelsemöte i SAGA
DESCRIPTION:Dagordning skickas ut mail-ledes.
URL:https://ka2samverkan.se/event/bhvs-styrelsemote-i-saga-3/
LOCATION:Frivillighuset Rosenholm
END:VEVENT
BEGIN:VEVENT
DTSTART;TZID=Europe/Stockholm:20240502T150000
DTEND;TZID=Europe/Stockholm:20240502T190000
DTSTAMP:20260422T060709
CREATED:20231203T161148Z
LAST-MODIFIED:20231203T161148Z
UID:1011-1714662000-1714676400@ka2samverkan.se
SUMMARY:Månadsträff i SAGA
DESCRIPTION:KA 2 Muldiv
URL:https://ka2samverkan.se/event/manadstraff-i-saga-4/
LOCATION:SAGA
CATEGORIES:MULDIV
END:VEVENT
BEGIN:VEVENT
DTSTART;TZID=Europe/Stockholm:20240429T100000
DTEND;TZID=Europe/Stockholm:20240429T123000
DTSTAMP:20260422T060709
CREATED:20240215T142056Z
LAST-MODIFIED:20240215T142100Z
UID:1188-1714384800-1714393800@ka2samverkan.se
SUMMARY:BHVS  HLR-utbildning
DESCRIPTION:Johan Swahn kommer att undervisa i HLR.
URL:https://ka2samverkan.se/event/bhvs-hlr-utbildning/
LOCATION:Frivillighuset Rosenholm
END:VEVENT
BEGIN:VEVENT
DTSTART;TZID=Europe/Stockholm:20240423T170000
DTEND;TZID=Europe/Stockholm:20240423T200000
DTSTAMP:20260422T060709
CREATED:20231221T084543Z
LAST-MODIFIED:20231221T084543Z
UID:1075-1713891600-1713902400@ka2samverkan.se
SUMMARY:Museum för rörligt kustartilleri
DESCRIPTION:Styrelsemöte i SAGA
URL:https://ka2samverkan.se/event/museum-for-rorligt-kustartilleri-5/
LOCATION:SAGA
CATEGORIES:Rörliga Museet
END:VEVENT
BEGIN:VEVENT
DTSTART;TZID=Europe/Stockholm:20240422T100000
DTEND;TZID=Europe/Stockholm:20240422T123000
DTSTAMP:20260422T060709
CREATED:20240215T142217Z
LAST-MODIFIED:20240215T142220Z
UID:1190-1713780000-1713789000@ka2samverkan.se
SUMMARY:BHVS  Måndagsmöte på R-holm
DESCRIPTION:
URL:https://ka2samverkan.se/event/bhvs-mandagsmote-pa-r-holm-3/
END:VEVENT
BEGIN:VEVENT
DTSTART;TZID=Europe/Stockholm:20240419T150000
DTEND;TZID=Europe/Stockholm:20240419T180000
DTSTAMP:20260422T060709
CREATED:20240111T090530Z
LAST-MODIFIED:20240111T090530Z
UID:1110-1713538800-1713549600@ka2samverkan.se
SUMMARY:OS KA 2 Trivselmöte
DESCRIPTION:
URL:https://ka2samverkan.se/event/os-ka-2-trivselmote-2/
LOCATION:SAGA
CATEGORIES:Lokalbokning SAGA,OS KA 2
END:VEVENT
BEGIN:VEVENT
DTSTART;TZID=Europe/Stockholm:20240415T100000
DTEND;TZID=Europe/Stockholm:20240415T123000
DTSTAMP:20260422T060709
CREATED:20240215T141903Z
LAST-MODIFIED:20240321T143847Z
UID:1186-1713175200-1713184200@ka2samverkan.se
SUMMARY:BHVS  Föredrag: Kris i hemmet
DESCRIPTION:Kris i hemmet (002)
URL:https://ka2samverkan.se/event/bhvs-foredrag-kris-i-hemmet/
END:VEVENT
BEGIN:VEVENT
DTSTART;TZID=Europe/Stockholm:20240415T090000
DTEND;TZID=Europe/Stockholm:20240415T130000
DTSTAMP:20260422T060709
CREATED:20240317T160852Z
LAST-MODIFIED:20240327T115639Z
UID:1266-1713171600-1713186000@ka2samverkan.se
SUMMARY:Styrelsemöte Flottans Män
DESCRIPTION:Övervån 0900-1300
URL:https://ka2samverkan.se/event/2024-04-16-flottans-man/
LOCATION:SAGA
CATEGORIES:Lokalbokning SAGA
END:VEVENT
BEGIN:VEVENT
DTSTART;TZID=Europe/Stockholm:20240408T100000
DTEND;TZID=Europe/Stockholm:20240408T120000
DTSTAMP:20260422T060709
CREATED:20240215T141506Z
LAST-MODIFIED:20240215T141605Z
UID:1184-1712570400-1712577600@ka2samverkan.se
SUMMARY:BHVS  Måndagsmöte på R-holm
DESCRIPTION:
URL:https://ka2samverkan.se/event/bhvs-mandagsmote-pa-r-holm-2/
END:VEVENT
BEGIN:VEVENT
DTSTART;TZID=Europe/Stockholm:20240404T150000
DTEND;TZID=Europe/Stockholm:20240404T190000
DTSTAMP:20260422T060709
CREATED:20231203T161531Z
LAST-MODIFIED:20231203T161531Z
UID:1013-1712242800-1712257200@ka2samverkan.se
SUMMARY:Månadsträff i SAGA
DESCRIPTION:KA 2 Muldiv
URL:https://ka2samverkan.se/event/manadstraff-i-saga-5/
LOCATION:SAGA
CATEGORIES:MULDIV
END:VEVENT
BEGIN:VEVENT
DTSTART;TZID=Europe/Stockholm:20240404T080000
DTEND;TZID=Europe/Stockholm:20240404T170000
DTSTAMP:20260422T060709
CREATED:20231204T103150Z
LAST-MODIFIED:20240404T094705Z
UID:1336-1712217600-1712250000@ka2samverkan.se
SUMMARY:2024-05-14 Besök i Kristianopel
DESCRIPTION:Välkomna till en militärhistorisk resa med besök i Kristianopel. Anmälan sker genom att inbetala 100:- till bg 5584-9483 senast 7 maj.
URL:https://ka2samverkan.se/event/2024-05-14-besok-i-kristianopel-2/
END:VEVENT
BEGIN:VEVENT
DTSTART;TZID=Europe/Stockholm:20240402T100000
DTEND;TZID=Europe/Stockholm:20240402T120000
DTSTAMP:20260422T060709
CREATED:20240215T140542Z
LAST-MODIFIED:20240215T140556Z
UID:1181-1712052000-1712059200@ka2samverkan.se
SUMMARY:BHVS  Styrelsemöte i SAGA
DESCRIPTION:Dagordning skickas ut mail-ledes.
URL:https://ka2samverkan.se/event/bhvs-styrelsemote-i-saga-2/
END:VEVENT
BEGIN:VEVENT
DTSTART;TZID=Europe/Stockholm:20240402T080000
DTEND;TZID=Europe/Stockholm:20240402T170000
DTSTAMP:20260422T060709
CREATED:20240402T165440Z
LAST-MODIFIED:20240402T165858Z
UID:1322-1712044800-1712077200@ka2samverkan.se
SUMMARY:Infoblad 2024 02
DESCRIPTION:
URL:https://ka2samverkan.se/event/infoblad-2024-02/
CATEGORIES:MULDIV
END:VEVENT
BEGIN:VEVENT
DTSTART;TZID=Europe/Stockholm:20240401T080000
DTEND;TZID=Europe/Stockholm:20240401T170000
DTSTAMP:20260422T060709
CREATED:20240401T155959Z
LAST-MODIFIED:20240401T155959Z
UID:1314-1711958400-1711990800@ka2samverkan.se
SUMMARY:
DESCRIPTION:Info-blad-Nr2-2024
URL:https://ka2samverkan.se/event/1314/
END:VEVENT
BEGIN:VEVENT
DTSTART;TZID=Europe/Stockholm:20240325T170000
DTEND;TZID=Europe/Stockholm:20240325T190000
DTSTAMP:20260422T060709
CREATED:20240111T090426Z
LAST-MODIFIED:20240111T090426Z
UID:1108-1711386000-1711393200@ka2samverkan.se
SUMMARY:OS KA 2 Direktionsmöte
DESCRIPTION:
URL:https://ka2samverkan.se/event/os-ka-2-direktionsmote-3/
LOCATION:SAGA
CATEGORIES:Lokalbokning SAGA,OS KA 2
END:VEVENT
BEGIN:VEVENT
DTSTART;TZID=Europe/Stockholm:20240325T100000
DTEND;TZID=Europe/Stockholm:20240325T120000
DTSTAMP:20260422T060709
CREATED:20240215T135959Z
LAST-MODIFIED:20240215T140002Z
UID:1177-1711360800-1711368000@ka2samverkan.se
SUMMARY:BHVS Måndagsmöte på R-holm
DESCRIPTION:
URL:https://ka2samverkan.se/event/bhvs-mandagsmote-pa-r-holm/
END:VEVENT
BEGIN:VEVENT
DTSTART;TZID=Europe/Stockholm:20240321T080000
DTEND;TZID=Europe/Stockholm:20240321T170000
DTSTAMP:20260422T060709
CREATED:20240321T142834Z
LAST-MODIFIED:20240321T142834Z
UID:1291-1711008000-1711040400@ka2samverkan.se
SUMMARY:BHVS; Besök Aspö
DESCRIPTION:Besök på Aspö \, Gruvan\, S-plats
URL:https://ka2samverkan.se/event/bhvs-besok-aspo/
END:VEVENT
END:VCALENDAR