BEGIN:VCALENDAR
VERSION:2.0
PRODID:-//KA2 Samverkansgrupp - ECPv6.15.20//NONSGML v1.0//EN
CALSCALE:GREGORIAN
METHOD:PUBLISH
X-WR-CALNAME:KA2 Samverkansgrupp
X-ORIGINAL-URL:https://ka2samverkan.se
X-WR-CALDESC:Händelser för KA2 Samverkansgrupp
REFRESH-INTERVAL;VALUE=DURATION:PT1H
X-Robots-Tag:noindex
X-PUBLISHED-TTL:PT1H
BEGIN:VTIMEZONE
TZID:Europe/Stockholm
BEGIN:DAYLIGHT
TZOFFSETFROM:+0100
TZOFFSETTO:+0200
TZNAME:CEST
DTSTART:20220327T010000
END:DAYLIGHT
BEGIN:STANDARD
TZOFFSETFROM:+0200
TZOFFSETTO:+0100
TZNAME:CET
DTSTART:20221030T010000
END:STANDARD
BEGIN:DAYLIGHT
TZOFFSETFROM:+0100
TZOFFSETTO:+0200
TZNAME:CEST
DTSTART:20230326T010000
END:DAYLIGHT
BEGIN:STANDARD
TZOFFSETFROM:+0200
TZOFFSETTO:+0100
TZNAME:CET
DTSTART:20231029T010000
END:STANDARD
BEGIN:DAYLIGHT
TZOFFSETFROM:+0100
TZOFFSETTO:+0200
TZNAME:CEST
DTSTART:20240331T010000
END:DAYLIGHT
BEGIN:STANDARD
TZOFFSETFROM:+0200
TZOFFSETTO:+0100
TZNAME:CET
DTSTART:20241027T010000
END:STANDARD
BEGIN:DAYLIGHT
TZOFFSETFROM:+0100
TZOFFSETTO:+0200
TZNAME:CEST
DTSTART:20250330T010000
END:DAYLIGHT
BEGIN:STANDARD
TZOFFSETFROM:+0200
TZOFFSETTO:+0100
TZNAME:CET
DTSTART:20251026T010000
END:STANDARD
END:VTIMEZONE
BEGIN:VEVENT
DTSTART;TZID=Europe/Stockholm:20240311T080000
DTEND;TZID=Europe/Stockholm:20240311T170000
DTSTAMP:20260422T101500
CREATED:20240111T170938Z
LAST-MODIFIED:20240311T171017Z
UID:1251-1710144000-1710176400@ka2samverkan.se
SUMMARY:2024-03-15 OS KA 2 Trivselmöte
DESCRIPTION:OS KA 2 Trivselmöte kl 1500 i SAGA\nInbjudan \n 
URL:https://ka2samverkan.se/event/2024-03-15-os-ka-2-trivselmote/
END:VEVENT
BEGIN:VEVENT
DTSTART;TZID=Europe/Stockholm:20240307T150000
DTEND;TZID=Europe/Stockholm:20240307T190000
DTSTAMP:20260422T101500
CREATED:20231203T160935Z
LAST-MODIFIED:20231203T160935Z
UID:1007-1709823600-1709838000@ka2samverkan.se
SUMMARY:Månadsträff i SAGA med ärtsoppa
DESCRIPTION:KA 2 Muldiv
URL:https://ka2samverkan.se/event/manadstraff-i-saga-med-artsoppa/
CATEGORIES:MULDIV
END:VEVENT
BEGIN:VEVENT
DTSTART;TZID=Europe/Stockholm:20240304T100000
DTEND;TZID=Europe/Stockholm:20240304T120000
DTSTAMP:20260422T101500
CREATED:20240215T132414Z
LAST-MODIFIED:20240215T134532Z
UID:1169-1709546400-1709553600@ka2samverkan.se
SUMMARY:BHVS Styrelsemöte i SAGA
DESCRIPTION:Dagordning skickas ut mail-ledes.
URL:https://ka2samverkan.se/event/bhvs-styrelsemote-i-saga/
END:VEVENT
BEGIN:VEVENT
DTSTART;TZID=Europe/Stockholm:20240228T173000
DTEND;TZID=Europe/Stockholm:20240228T193000
DTSTAMP:20260422T101500
CREATED:20231130T095005Z
LAST-MODIFIED:20240220T095605Z
UID:1217-1709141400-1709148600@ka2samverkan.se
SUMMARY:2024-02-28 Föredrag av Mikael Lindholm "Skuggor från vattnet"
DESCRIPTION:40 år efter de uppseendeväckande händelserna på Almö\, genomför TV4 Nyhetsmorgon ett inslag i morgonsoffan den 28 februari ca kl 0930. \nPå kvällen 28/2 inbjuds till föredrag på DOCKS i Karlskrona\, där kommer det som verkligen hände avslöjas; något som är högst aktuellt igen. (se bifogad fil). \nGLÖM INTE FÖRANMÄLAN till info@ranunkelförlag.se \n(begränsat antal platser)
URL:https://ka2samverkan.se/event/2024-02-28-foredrag-av-mikael-lindholm-skuggor-fran-vattnet/
LOCATION:Dockside Karlskrona
CATEGORIES:KA 2 Samverkansgrupp
END:VEVENT
BEGIN:VEVENT
DTSTART;TZID=Europe/Stockholm:20240225T143000
DTEND;TZID=Europe/Stockholm:20240225T170000
DTSTAMP:20260422T101500
CREATED:20240227T102237Z
LAST-MODIFIED:20240227T102237Z
UID:1237-1708871400-1708880400@ka2samverkan.se
SUMMARY:BHVS Årsmöte
DESCRIPTION:Årsmöte för BHVS i Rosenholms Frivillighus
URL:https://ka2samverkan.se/event/bhvs-arsmote/
END:VEVENT
BEGIN:VEVENT
DTSTART;TZID=Europe/Stockholm:20240225T143000
DTEND;TZID=Europe/Stockholm:20240225T170000
DTSTAMP:20260422T101500
CREATED:20240215T135407Z
LAST-MODIFIED:20240215T141112Z
UID:1161-1708871400-1708880400@ka2samverkan.se
SUMMARY:BHVS Årsmöte
DESCRIPTION:Årsmöte i Frivillighuset på Rosenholm enl. utsänd kallelse. Kallelse Årsmöte 2024 \nMöteshandlingar skickas ut mail-ledes.
URL:https://ka2samverkan.se/event/bhvs-arsmote-2/
CATEGORIES:BHVS
END:VEVENT
BEGIN:VEVENT
DTSTART;TZID=Europe/Stockholm:20240222T170000
DTEND;TZID=Europe/Stockholm:20240222T200000
DTSTAMP:20260422T101500
CREATED:20240111T092837Z
LAST-MODIFIED:20240111T092837Z
UID:1122-1708621200-1708632000@ka2samverkan.se
SUMMARY:OS KA 2 Årsmöte
DESCRIPTION:kl 1730 i FREJA
URL:https://ka2samverkan.se/event/os-ka-2-arsmote/
CATEGORIES:OS KA 2
END:VEVENT
BEGIN:VEVENT
DTSTART;TZID=Europe/Stockholm:20240219T100000
DTEND;TZID=Europe/Stockholm:20240219T123000
DTSTAMP:20260422T101500
CREATED:20240215T131920Z
LAST-MODIFIED:20240215T131942Z
UID:1165-1708336800-1708345800@ka2samverkan.se
SUMMARY:BHVS  Måndagsmöte R-holm
DESCRIPTION:
URL:https://ka2samverkan.se/event/bhvs-mandagsmote-r-holm-2/
END:VEVENT
BEGIN:VEVENT
DTSTART;TZID=Europe/Stockholm:20240213T160000
DTEND;TZID=Europe/Stockholm:20240213T200000
DTSTAMP:20260422T101500
CREATED:20231221T083853Z
LAST-MODIFIED:20231221T083853Z
UID:1068-1707840000-1707854400@ka2samverkan.se
SUMMARY:Museum för rörligt kustartilleri
DESCRIPTION:Styrelsemöte SAGA
URL:https://ka2samverkan.se/event/museum-for-rorligt-kustartilleri-2/
LOCATION:SAGA
CATEGORIES:Rörliga Museet
END:VEVENT
BEGIN:VEVENT
DTSTART;TZID=Europe/Stockholm:20240201T150000
DTEND;TZID=Europe/Stockholm:20240201T190000
DTSTAMP:20260422T101500
CREATED:20231203T160728Z
LAST-MODIFIED:20231203T160728Z
UID:1005-1706799600-1706814000@ka2samverkan.se
SUMMARY:Månadsträff i SAGA
DESCRIPTION:KA 2 Muldiv
URL:https://ka2samverkan.se/event/manadstraff-i-saga-2/
LOCATION:SAGA
CATEGORIES:MULDIV
END:VEVENT
BEGIN:VEVENT
DTSTART;TZID=Europe/Stockholm:20240124T090000
DTEND;TZID=Europe/Stockholm:20240124T120000
DTSTAMP:20260422T101500
CREATED:20231221T150556Z
LAST-MODIFIED:20231221T150556Z
UID:1096-1706086800-1706097600@ka2samverkan.se
SUMMARY:Foto-/Bildgruppen
DESCRIPTION:Arbete i SAGA
URL:https://ka2samverkan.se/event/foto-bildgruppen-3/
LOCATION:SAGA
CATEGORIES:KA 2 Samverkansgrupp
END:VEVENT
BEGIN:VEVENT
DTSTART;TZID=Europe/Stockholm:20240122T170000
DTEND;TZID=Europe/Stockholm:20240122T190000
DTSTAMP:20260422T101500
CREATED:20240111T085943Z
LAST-MODIFIED:20240111T091633Z
UID:1104-1705942800-1705950000@ka2samverkan.se
SUMMARY:OS KA 2 Direktionsmöte
DESCRIPTION:Saga
URL:https://ka2samverkan.se/event/os-ka-2-direktionsmote-2/
LOCATION:SAGA
CATEGORIES:Lokalbokning SAGA,OS KA 2
END:VEVENT
BEGIN:VEVENT
DTSTART;TZID=Europe/Stockholm:20240117T090000
DTEND;TZID=Europe/Stockholm:20240117T120000
DTSTAMP:20260422T101500
CREATED:20231221T150513Z
LAST-MODIFIED:20231221T150513Z
UID:1094-1705482000-1705492800@ka2samverkan.se
SUMMARY:Foto-/Bildgruppen
DESCRIPTION:Arbete i SAGA
URL:https://ka2samverkan.se/event/foto-bildgruppen-2/
LOCATION:SAGA
CATEGORIES:KA 2 Kamratförening
END:VEVENT
BEGIN:VEVENT
DTSTART;TZID=Europe/Stockholm:20240116T170000
DTEND;TZID=Europe/Stockholm:20240116T200000
DTSTAMP:20260422T101500
CREATED:20231221T083713Z
LAST-MODIFIED:20231221T083713Z
UID:1066-1705424400-1705435200@ka2samverkan.se
SUMMARY:Museum för rörligt kustartilleri
DESCRIPTION:Styrelsemöte SAGA
URL:https://ka2samverkan.se/event/museum-for-rorligt-kustartilleri/
LOCATION:SAGA
CATEGORIES:Rörliga Museet
END:VEVENT
BEGIN:VEVENT
DTSTART;TZID=Europe/Stockholm:20240112T113000
DTEND;TZID=Europe/Stockholm:20240112T133000
DTSTAMP:20260422T101500
CREATED:20231202T085114Z
LAST-MODIFIED:20240111T091548Z
UID:1000-1705059000-1705066200@ka2samverkan.se
SUMMARY:KA-lunch
DESCRIPTION:Villa Oscar
URL:https://ka2samverkan.se/event/ka-lunch/
LOCATION:Villa Oscar Gräsvik
END:VEVENT
BEGIN:VEVENT
DTSTART;TZID=Europe/Stockholm:20240110T090000
DTEND;TZID=Europe/Stockholm:20240110T120000
DTSTAMP:20260422T101500
CREATED:20231221T150434Z
LAST-MODIFIED:20231221T150434Z
UID:1092-1704877200-1704888000@ka2samverkan.se
SUMMARY:Foto-/Bildgruppen
DESCRIPTION:Arbete i SAGA
URL:https://ka2samverkan.se/event/foto-bildgruppen/
LOCATION:SAGA
CATEGORIES:KA 2 Kamratförening
END:VEVENT
BEGIN:VEVENT
DTSTART;TZID=Europe/Stockholm:20240104T150000
DTEND;TZID=Europe/Stockholm:20240104T190000
DTSTAMP:20260422T101500
CREATED:20231203T160552Z
LAST-MODIFIED:20231203T160552Z
UID:1003-1704380400-1704394800@ka2samverkan.se
SUMMARY:Månadsträff i SAGA
DESCRIPTION:KA 2 Muldiv
URL:https://ka2samverkan.se/event/manadstraff-i-saga/
LOCATION:SAGA
CATEGORIES:MULDIV
END:VEVENT
BEGIN:VEVENT
DTSTART;TZID=Europe/Stockholm:20231219T080000
DTEND;TZID=Europe/Stockholm:20231219T160000
DTSTAMP:20260422T101500
CREATED:20231202T084420Z
LAST-MODIFIED:20231202T085232Z
UID:992-1702972800-1703001600@ka2samverkan.se
SUMMARY:Födelsedag i SAGA
DESCRIPTION:Ansv: Rolf Lindén 070-7285234
URL:https://ka2samverkan.se/event/fodelsedag/
LOCATION:SAGA
CATEGORIES:KA 2 Samverkansgrupp
END:VEVENT
BEGIN:VEVENT
DTSTART;TZID=Europe/Stockholm:20231218T100000
DTEND;TZID=Europe/Stockholm:20231218T120000
DTSTAMP:20260422T101500
CREATED:20231202T084849Z
LAST-MODIFIED:20231202T084849Z
UID:998-1702893600-1702900800@ka2samverkan.se
SUMMARY:BVHS möte i SAGA
DESCRIPTION:
URL:https://ka2samverkan.se/event/bvhs-mote-i-saga-2/
LOCATION:SAGA
CATEGORIES:BHVS
END:VEVENT
BEGIN:VEVENT
DTSTART;TZID=Europe/Stockholm:20231215T180000
DTEND;TZID=Europe/Stockholm:20231215T230000
DTSTAMP:20260422T101500
CREATED:20230307T083341Z
LAST-MODIFIED:20230307T083341Z
UID:386-1702663200-1702681200@ka2samverkan.se
SUMMARY:OS KA 2  Lillejul i FREJA
DESCRIPTION:
URL:https://ka2samverkan.se/event/os-ka-2-lillejul-i-freja/
CATEGORIES:OS KA2
END:VEVENT
BEGIN:VEVENT
DTSTART;TZID=Europe/Stockholm:20231215T100000
DTEND;TZID=Europe/Stockholm:20231215T140000
DTSTAMP:20260422T101500
CREATED:20230906T152926Z
LAST-MODIFIED:20231205T142058Z
UID:715-1702634400-1702648800@ka2samverkan.se
SUMMARY:KA 2 Kamratförening och Samverkangrupp  styrelsemöten med jullunch SAGA och FREJA
DESCRIPTION:KA 2 Kamratförening kl 1000-1130 i Saga\nKA 2 Samverkansgrupp kl 1130-1200 i Saga\nGemensam jullunch kl 1200-1400 i Freja
URL:https://ka2samverkan.se/event/ka-2-kf-styrelsemote-och-jullunch/
LOCATION:SAGA
CATEGORIES:KA 2 Kamratförening
END:VEVENT
BEGIN:VEVENT
DTSTART;TZID=Europe/Stockholm:20231212T160000
DTEND;TZID=Europe/Stockholm:20231212T200000
DTSTAMP:20260422T101500
CREATED:20230331T073602Z
LAST-MODIFIED:20231106T164134Z
UID:472-1702396800-1702411200@ka2samverkan.se
SUMMARY:Rörl Museum - Styrelsemöte i SAGA
DESCRIPTION:
URL:https://ka2samverkan.se/event/styrelsemote-rorl-museum-7/
LOCATION:SAGA
CATEGORIES:Rörliga Museet
END:VEVENT
BEGIN:VEVENT
DTSTART;TZID=Europe/Stockholm:20231212T140000
DTEND;TZID=Europe/Stockholm:20231212T160000
DTSTAMP:20260422T101500
CREATED:20230307T084254Z
LAST-MODIFIED:20230307T084254Z
UID:404-1702389600-1702396800@ka2samverkan.se
SUMMARY:KA 2 Kamratträff SAGA
DESCRIPTION:
URL:https://ka2samverkan.se/event/ka-2-kamrattraff-saga-8/
CATEGORIES:KA 2 Kamratförening,Lokalbokning SAGA
END:VEVENT
BEGIN:VEVENT
DTSTART;TZID=Europe/Stockholm:20231211T100000
DTEND;TZID=Europe/Stockholm:20231211T120000
DTSTAMP:20260422T101500
CREATED:20231202T084808Z
LAST-MODIFIED:20231202T084808Z
UID:996-1702288800-1702296000@ka2samverkan.se
SUMMARY:BVHS möte i SAGA
DESCRIPTION:
URL:https://ka2samverkan.se/event/bvhs-mote-i-saga/
LOCATION:SAGA
CATEGORIES:BHVS
END:VEVENT
BEGIN:VEVENT
DTSTART;TZID=Europe/Stockholm:20231207T160000
DTEND;TZID=Europe/Stockholm:20231207T200000
DTSTAMP:20260422T101500
CREATED:20230307T081634Z
LAST-MODIFIED:20231106T164034Z
UID:356-1701964800-1701979200@ka2samverkan.se
SUMMARY:KA 2 Muldiv Julhälsning i SAGA
DESCRIPTION:
URL:https://ka2samverkan.se/event/julhalsning-saga-ka-2-muldiv/
LOCATION:SAGA
CATEGORIES:Lokalbokning SAGA,MULDIV
END:VEVENT
BEGIN:VEVENT
DTSTART;TZID=Europe/Stockholm:20231206T173000
DTEND;TZID=Europe/Stockholm:20231206T230000
DTSTAMP:20260422T101500
CREATED:20231004T080140Z
LAST-MODIFIED:20231106T163921Z
UID:833-1701883800-1701903600@ka2samverkan.se
SUMMARY:KKKK Julspel i SAGA
DESCRIPTION:
URL:https://ka2samverkan.se/event/kkkk-julspel/
LOCATION:SAGA
CATEGORIES:KKKK
END:VEVENT
BEGIN:VEVENT
DTSTART;TZID=Europe/Stockholm:20231205T093000
DTEND;TZID=Europe/Stockholm:20231205T110000
DTSTAMP:20260422T101500
CREATED:20230331T074716Z
LAST-MODIFIED:20230331T074716Z
UID:486-1701768600-1701774000@ka2samverkan.se
SUMMARY:Kamratträff - Rörl Museum
DESCRIPTION:
URL:https://ka2samverkan.se/event/kamrattraff-rorl-museum-6/
LOCATION:Nellys Café
CATEGORIES:Rörliga Museet
END:VEVENT
BEGIN:VEVENT
DTSTART;TZID=Europe/Stockholm:20231204T100000
DTEND;TZID=Europe/Stockholm:20231204T120000
DTSTAMP:20260422T101500
CREATED:20231202T084729Z
LAST-MODIFIED:20231202T084729Z
UID:994-1701684000-1701691200@ka2samverkan.se
SUMMARY:BHVS möte i SAGA
DESCRIPTION:
URL:https://ka2samverkan.se/event/bhvs-mote-i-saga/
LOCATION:SAGA
CATEGORIES:BHVS
END:VEVENT
BEGIN:VEVENT
DTSTART;TZID=Europe/Stockholm:20231203T143000
DTEND;TZID=Europe/Stockholm:20231203T170000
DTSTAMP:20260422T101500
CREATED:20240215T154948Z
LAST-MODIFIED:20240216T181719Z
UID:1210-1701613800-1701622800@ka2samverkan.se
SUMMARY:BHVS  LilleJul
DESCRIPTION:Referat från Lille Jul 2023
URL:https://ka2samverkan.se/event/bhvs-lillejul/
END:VEVENT
BEGIN:VEVENT
DTSTART;TZID=Europe/Stockholm:20231203T100000
DTEND;TZID=Europe/Stockholm:20231203T190000
DTSTAMP:20260422T101500
CREATED:20231106T162927Z
LAST-MODIFIED:20231106T165500Z
UID:963-1701597600-1701630000@ka2samverkan.se
SUMMARY:BHVS LilleJul i FREJA förberedelser i SAGA
DESCRIPTION:Program enl. utskickad kallelse/inbjudan.
URL:https://ka2samverkan.se/event/bhvs-lillejul-i-freja/
LOCATION:SAGA
CATEGORIES:BHVS
END:VEVENT
END:VCALENDAR