BEGIN:VCALENDAR
VERSION:2.0
PRODID:-//KA2 Samverkansgrupp - ECPv6.15.20//NONSGML v1.0//EN
CALSCALE:GREGORIAN
METHOD:PUBLISH
X-WR-CALNAME:KA2 Samverkansgrupp
X-ORIGINAL-URL:https://ka2samverkan.se
X-WR-CALDESC:Händelser för KA2 Samverkansgrupp
REFRESH-INTERVAL;VALUE=DURATION:PT1H
X-Robots-Tag:noindex
X-PUBLISHED-TTL:PT1H
BEGIN:VTIMEZONE
TZID:Europe/Stockholm
BEGIN:DAYLIGHT
TZOFFSETFROM:+0100
TZOFFSETTO:+0200
TZNAME:CEST
DTSTART:20220327T010000
END:DAYLIGHT
BEGIN:STANDARD
TZOFFSETFROM:+0200
TZOFFSETTO:+0100
TZNAME:CET
DTSTART:20221030T010000
END:STANDARD
BEGIN:DAYLIGHT
TZOFFSETFROM:+0100
TZOFFSETTO:+0200
TZNAME:CEST
DTSTART:20230326T010000
END:DAYLIGHT
BEGIN:STANDARD
TZOFFSETFROM:+0200
TZOFFSETTO:+0100
TZNAME:CET
DTSTART:20231029T010000
END:STANDARD
BEGIN:DAYLIGHT
TZOFFSETFROM:+0100
TZOFFSETTO:+0200
TZNAME:CEST
DTSTART:20240331T010000
END:DAYLIGHT
BEGIN:STANDARD
TZOFFSETFROM:+0200
TZOFFSETTO:+0100
TZNAME:CET
DTSTART:20241027T010000
END:STANDARD
END:VTIMEZONE
BEGIN:VEVENT
DTSTART;TZID=Europe/Stockholm:20231207T160000
DTEND;TZID=Europe/Stockholm:20231207T200000
DTSTAMP:20260424T115848
CREATED:20230307T081634Z
LAST-MODIFIED:20231106T164034Z
UID:356-1701964800-1701979200@ka2samverkan.se
SUMMARY:KA 2 Muldiv Julhälsning i SAGA
DESCRIPTION:
URL:https://ka2samverkan.se/event/julhalsning-saga-ka-2-muldiv/
LOCATION:SAGA
CATEGORIES:Lokalbokning SAGA,MULDIV
END:VEVENT
BEGIN:VEVENT
DTSTART;TZID=Europe/Stockholm:20231206T173000
DTEND;TZID=Europe/Stockholm:20231206T230000
DTSTAMP:20260424T115848
CREATED:20231004T080140Z
LAST-MODIFIED:20231106T163921Z
UID:833-1701883800-1701903600@ka2samverkan.se
SUMMARY:KKKK Julspel i SAGA
DESCRIPTION:
URL:https://ka2samverkan.se/event/kkkk-julspel/
LOCATION:SAGA
CATEGORIES:KKKK
END:VEVENT
BEGIN:VEVENT
DTSTART;TZID=Europe/Stockholm:20231205T093000
DTEND;TZID=Europe/Stockholm:20231205T110000
DTSTAMP:20260424T115848
CREATED:20230331T074716Z
LAST-MODIFIED:20230331T074716Z
UID:486-1701768600-1701774000@ka2samverkan.se
SUMMARY:Kamratträff - Rörl Museum
DESCRIPTION:
URL:https://ka2samverkan.se/event/kamrattraff-rorl-museum-6/
LOCATION:Nellys Café
CATEGORIES:Rörliga Museet
END:VEVENT
BEGIN:VEVENT
DTSTART;TZID=Europe/Stockholm:20231204T100000
DTEND;TZID=Europe/Stockholm:20231204T120000
DTSTAMP:20260424T115848
CREATED:20231202T084729Z
LAST-MODIFIED:20231202T084729Z
UID:994-1701684000-1701691200@ka2samverkan.se
SUMMARY:BHVS möte i SAGA
DESCRIPTION:
URL:https://ka2samverkan.se/event/bhvs-mote-i-saga/
LOCATION:SAGA
CATEGORIES:BHVS
END:VEVENT
BEGIN:VEVENT
DTSTART;TZID=Europe/Stockholm:20231203T143000
DTEND;TZID=Europe/Stockholm:20231203T170000
DTSTAMP:20260424T115848
CREATED:20240215T154948Z
LAST-MODIFIED:20240216T181719Z
UID:1210-1701613800-1701622800@ka2samverkan.se
SUMMARY:BHVS  LilleJul
DESCRIPTION:Referat från Lille Jul 2023
URL:https://ka2samverkan.se/event/bhvs-lillejul/
END:VEVENT
BEGIN:VEVENT
DTSTART;TZID=Europe/Stockholm:20231203T100000
DTEND;TZID=Europe/Stockholm:20231203T190000
DTSTAMP:20260424T115848
CREATED:20231106T162927Z
LAST-MODIFIED:20231106T165500Z
UID:963-1701597600-1701630000@ka2samverkan.se
SUMMARY:BHVS LilleJul i FREJA förberedelser i SAGA
DESCRIPTION:Program enl. utskickad kallelse/inbjudan.
URL:https://ka2samverkan.se/event/bhvs-lillejul-i-freja/
LOCATION:SAGA
CATEGORIES:BHVS
END:VEVENT
BEGIN:VEVENT
DTSTART;TZID=Europe/Stockholm:20231203T080000
DTEND;TZID=Europe/Stockholm:20231203T170000
DTSTAMP:20260424T115848
CREATED:20230307T085257Z
LAST-MODIFIED:20230307T085257Z
UID:414-1701590400-1701622800@ka2samverkan.se
SUMMARY:1:a Advent Kungl Amiralitetskyrkan
DESCRIPTION:
URL:https://ka2samverkan.se/event/1a-advent-kungl-amiralitetskyrkan/
CATEGORIES:KA 2 Kamratförening
END:VEVENT
BEGIN:VEVENT
DTSTART;TZID=Europe/Stockholm:20231201T150000
DTEND;TZID=Europe/Stockholm:20231201T180000
DTSTAMP:20260424T115848
CREATED:20230307T083220Z
LAST-MODIFIED:20230307T083430Z
UID:384-1701442800-1701453600@ka2samverkan.se
SUMMARY:OS KA 2 Trivselafton St Barbara i FYLGIA
DESCRIPTION:
URL:https://ka2samverkan.se/event/os-ka-2-trivselafton-st-barbara-i-fylgia/
CATEGORIES:OS KA2
END:VEVENT
BEGIN:VEVENT
DTSTART;TZID=Europe/Stockholm:20231201T113000
DTEND;TZID=Europe/Stockholm:20231201T130000
DTSTAMP:20260424T115848
CREATED:20230331T080011Z
LAST-MODIFIED:20231106T163440Z
UID:503-1701430200-1701435600@ka2samverkan.se
SUMMARY:Månadslunch - Villa Oscar
DESCRIPTION:
URL:https://ka2samverkan.se/event/manadslunch-ka-samvgrp-8/
LOCATION:Villa Oscar Gräsvik
CATEGORIES:KA 2 Samverkansgrupp
END:VEVENT
BEGIN:VEVENT
DTSTART;TZID=Europe/Stockholm:20231128T160000
DTEND;TZID=Europe/Stockholm:20231128T200000
DTSTAMP:20260424T115848
CREATED:20230331T073501Z
LAST-MODIFIED:20231106T163741Z
UID:470-1701187200-1701201600@ka2samverkan.se
SUMMARY:Styrelsemöte - Rörl Museum i SAGA
DESCRIPTION:
URL:https://ka2samverkan.se/event/styrelsemote-rorl-museum-6/
LOCATION:SAGA
CATEGORIES:Rörliga Museet
END:VEVENT
BEGIN:VEVENT
DTSTART;TZID=Europe/Stockholm:20231123T120000
DTEND;TZID=Europe/Stockholm:20231123T170000
DTSTAMP:20260424T115848
CREATED:20231013T184632Z
LAST-MODIFIED:20231106T163342Z
UID:864-1700740800-1700758800@ka2samverkan.se
SUMMARY:KA 2 - KH Fort Nostalgiträff i SAGA
DESCRIPTION:
URL:https://ka2samverkan.se/event/2023-11-23-ka-2-nostalgitraff/
LOCATION:SAGA
CATEGORIES:KA 2 Samverkansgrupp
END:VEVENT
BEGIN:VEVENT
DTSTART;TZID=Europe/Stockholm:20231120T170000
DTEND;TZID=Europe/Stockholm:20231120T190000
DTSTAMP:20260424T115848
CREATED:20230307T083044Z
LAST-MODIFIED:20231106T163227Z
UID:382-1700499600-1700506800@ka2samverkan.se
SUMMARY:OS KA 2 Direktionsmöte SAGA
DESCRIPTION:
URL:https://ka2samverkan.se/event/os-ka-2-trivselafton-fylgia-3/
LOCATION:SAGA
CATEGORIES:OS KA2
END:VEVENT
BEGIN:VEVENT
DTSTART;TZID=Europe/Stockholm:20231120T100000
DTEND;TZID=Europe/Stockholm:20231120T120000
DTSTAMP:20260424T115848
CREATED:20231105T152601Z
LAST-MODIFIED:20231106T162844Z
UID:955-1700474400-1700481600@ka2samverkan.se
SUMMARY:2023-11-20 BHVS Möte i SAGA
DESCRIPTION:
URL:https://ka2samverkan.se/event/2023-11-20-bhvs/
LOCATION:SAGA
CATEGORIES:BHVS
END:VEVENT
BEGIN:VEVENT
DTSTART;TZID=Europe/Stockholm:20231119T120000
DTEND;TZID=Europe/Stockholm:20231119T160000
DTSTAMP:20260424T115848
CREATED:20230307T082307Z
LAST-MODIFIED:20230307T082307Z
UID:370-1700395200-1700409600@ka2samverkan.se
SUMMARY:BHVS Museum RH - Öppet
DESCRIPTION:
URL:https://ka2samverkan.se/event/bhvs-museum-rh-oppet-7/
CATEGORIES:BHVS
END:VEVENT
BEGIN:VEVENT
DTSTART;VALUE=DATE:20231119
DTEND;VALUE=DATE:20231120
DTSTAMP:20260424T115848
CREATED:20231003T110117Z
LAST-MODIFIED:20231018T111053Z
UID:873-1700352000-1700438399@ka2samverkan.se
SUMMARY:2023-11-19 Inbjudan till Rosenholmsträff
DESCRIPTION:KA 2 skytteförening hälsar samverkansgruppens medlemmar med familjer välkomna till fältskyttetävlan. Barn/Ungdom är okej med i föräldrars/vuxens sällskap. Licens ordnas på plats.\nInbjudan till Rosenholmsträffen 19 nov
URL:https://ka2samverkan.se/event/2023-11-19-inbjudan-till-rosenholmstraff/
LOCATION:Rosenholms Övningsområde
CATEGORIES:KA 2 Skytteförening
END:VEVENT
BEGIN:VEVENT
DTSTART;VALUE=DATE:20231119
DTEND;VALUE=DATE:20231120
DTSTAMP:20260424T115848
CREATED:20230906T151320Z
LAST-MODIFIED:20230906T151320Z
UID:705-1700352000-1700438399@ka2samverkan.se
SUMMARY:Tävling Fältskjutning
DESCRIPTION:KA 2 Skytteförening genomför en heldag med tävling i fältskjutning på bana med gevär.
URL:https://ka2samverkan.se/event/tavling-faltskjutning/
LOCATION:Rosenholm
CATEGORIES:KA 2 Skytteförening
END:VEVENT
BEGIN:VEVENT
DTSTART;TZID=Europe/Stockholm:20231116T130000
DTEND;TZID=Europe/Stockholm:20231116T160000
DTSTAMP:20260424T115848
CREATED:20231110T174745Z
LAST-MODIFIED:20231110T174745Z
UID:983-1700139600-1700150400@ka2samverkan.se
SUMMARY:Muldiv Planeringsmöte utbildningsmuseet i SAGA
DESCRIPTION:
URL:https://ka2samverkan.se/event/muldiv-planeringsmote-utbildningsmuseet-i-saga/
LOCATION:SAGA
CATEGORIES:MULDIV
END:VEVENT
BEGIN:VEVENT
DTSTART;TZID=Europe/Stockholm:20231114T140000
DTEND;TZID=Europe/Stockholm:20231114T160000
DTSTAMP:20260424T115848
CREATED:20230307T084218Z
LAST-MODIFIED:20230307T084218Z
UID:402-1699970400-1699977600@ka2samverkan.se
SUMMARY:KA 2 Kamratträff SAGA
DESCRIPTION:
URL:https://ka2samverkan.se/event/ka-2-kamrattraff-saga-7/
CATEGORIES:KA 2 Kamratförening,Lokalbokning SAGA
END:VEVENT
BEGIN:VEVENT
DTSTART;TZID=Europe/Stockholm:20231113T100000
DTEND;TZID=Europe/Stockholm:20231113T120000
DTSTAMP:20260424T115848
CREATED:20231105T152428Z
LAST-MODIFIED:20231106T162750Z
UID:953-1699869600-1699876800@ka2samverkan.se
SUMMARY:2023-11-13 BVHS Möte i SAGA
DESCRIPTION:
URL:https://ka2samverkan.se/event/2023-11-13-bvhs/
LOCATION:SAGA
CATEGORIES:BHVS
END:VEVENT
BEGIN:VEVENT
DTSTART;TZID=Europe/Stockholm:20231107T093000
DTEND;TZID=Europe/Stockholm:20231107T110000
DTSTAMP:20260424T115848
CREATED:20230331T074614Z
LAST-MODIFIED:20230331T074614Z
UID:484-1699349400-1699354800@ka2samverkan.se
SUMMARY:Kamratträff - Rörl Museum
DESCRIPTION:
URL:https://ka2samverkan.se/event/kamrattraff-rorl-museum-5/
LOCATION:Nellys Café
CATEGORIES:Rörliga Museet
END:VEVENT
BEGIN:VEVENT
DTSTART;TZID=Europe/Stockholm:20231106T100000
DTEND;TZID=Europe/Stockholm:20231106T120000
DTSTAMP:20260424T115848
CREATED:20231031T124532Z
LAST-MODIFIED:20231031T124532Z
UID:934-1699264800-1699272000@ka2samverkan.se
SUMMARY:BHVS: Måndagsmöte R-holm.
DESCRIPTION:BHVS: Måndagsmöte på Rosenholm.
URL:https://ka2samverkan.se/event/bhvs-mandagsmote-r-holm/
LOCATION:Rosenholm
END:VEVENT
BEGIN:VEVENT
DTSTART;TZID=Europe/Stockholm:20231103T113000
DTEND;TZID=Europe/Stockholm:20231103T140000
DTSTAMP:20260424T115848
CREATED:20231001T105528Z
LAST-MODIFIED:20231018T105808Z
UID:869-1699011000-1699020000@ka2samverkan.se
SUMMARY:2023-11-03 KA 2-lunch
DESCRIPTION:Inbjuds till sedvanlig lunch i Villa Oscar första fredagen i månaden kl 1120 på Villa Oscar
URL:https://ka2samverkan.se/event/2023-11-03-ka-2-lunch/
LOCATION:Villa Oscar Gräsvik
CATEGORIES:KA 2 Samverkansgrupp
END:VEVENT
BEGIN:VEVENT
DTSTART;TZID=Europe/Stockholm:20231103T113000
DTEND;TZID=Europe/Stockholm:20231103T130000
DTSTAMP:20260424T115848
CREATED:20230331T075919Z
LAST-MODIFIED:20230331T075919Z
UID:501-1699011000-1699016400@ka2samverkan.se
SUMMARY:Månadslunch - KA Samvgrp
DESCRIPTION:
URL:https://ka2samverkan.se/event/manadslunch-ka-samvgrp-7/
LOCATION:Villa Oscar Gräsvik
CATEGORIES:KA 2 Samverkansgrupp
END:VEVENT
BEGIN:VEVENT
DTSTART;TZID=Europe/Stockholm:20231102T150000
DTEND;TZID=Europe/Stockholm:20231102T190000
DTSTAMP:20260424T115848
CREATED:20230307T081532Z
LAST-MODIFIED:20230307T081532Z
UID:354-1698937200-1698951600@ka2samverkan.se
SUMMARY:Månadsträff SAGA KA 2 Muldiv
DESCRIPTION:
URL:https://ka2samverkan.se/event/manadstraff-saga-ka-2-muldiv-4/
CATEGORIES:Lokalbokning SAGA,MULDIV
END:VEVENT
BEGIN:VEVENT
DTSTART;TZID=Europe/Stockholm:20231031T160000
DTEND;TZID=Europe/Stockholm:20231031T200000
DTSTAMP:20260424T115848
CREATED:20230331T073411Z
LAST-MODIFIED:20230828T115114Z
UID:468-1698768000-1698782400@ka2samverkan.se
SUMMARY:Styrelsemöte - Rörl Museum
DESCRIPTION:
URL:https://ka2samverkan.se/event/styrelsemote-rorl-museum-5/
LOCATION:SAGA
CATEGORIES:Rörliga Museet
END:VEVENT
BEGIN:VEVENT
DTSTART;TZID=Europe/Stockholm:20231030T100000
DTEND;TZID=Europe/Stockholm:20231030T120000
DTSTAMP:20260424T115848
CREATED:20231019T154456Z
LAST-MODIFIED:20231031T124316Z
UID:887-1698660000-1698667200@ka2samverkan.se
SUMMARY:BHVS: Styrelsemöte
DESCRIPTION:Förhoppningsvis i SAGA. Förslag till dagordning skickas ut i vanlig ordning.
URL:https://ka2samverkan.se/event/bhvs-styrelsemote-2/
END:VEVENT
BEGIN:VEVENT
DTSTART;VALUE=DATE:20231028
DTEND;VALUE=DATE:20231029
DTSTAMP:20260424T115848
CREATED:20230906T152412Z
LAST-MODIFIED:20230906T152412Z
UID:713-1698451200-1698537599@ka2samverkan.se
SUMMARY:Rörliga Museet Världsarvsdagar
DESCRIPTION:Under världsarvsdagarna 27-29 oktober inbjuder Rörl Museet till en medlemsdag den 28/10 på ASPÖ.
URL:https://ka2samverkan.se/event/rorliga-museet-varldsarvsdagar/
CATEGORIES:Rörliga Museet
END:VEVENT
BEGIN:VEVENT
DTSTART;TZID=Europe/Stockholm:20231026T180000
DTEND;TZID=Europe/Stockholm:20231026T233000
DTSTAMP:20260424T115848
CREATED:20230921T122333Z
LAST-MODIFIED:20230921T122333Z
UID:758-1698343200-1698363000@ka2samverkan.se
SUMMARY:2023-10-26 KA 2 kamratförenings Höstmöte
DESCRIPTION:KA 2 kamratförening inbjuder till sedvanligt höstmöte med föreläsning av Stf C SSS\, övlt Fredrik Lindblad om ”Amfibieregemente m/ny”. Vi bjuder på en sedvanlig ”krigsrätt”\, silltallrik\, ärtsoppa och pannkakor. \nTid:               2023-10-26 kl 1800\nPlats:            Sjöofficersmässen\nPris:              250:- för medlem\, 350:- för medföljande gäster\nAnmälan:   Sker genom inbetalning till bankgiro 5584-9483 och anmälan\ntill  ka2.karlskrona@gmail.com senast 17 oktober \n                                              V ÄL K O M N A!
URL:https://ka2samverkan.se/event/2023-10-26-ka-2-kamratforenings-hostmote/
LOCATION:Sjöofficersmässen
CATEGORIES:KA 2 Kamratförening
END:VEVENT
BEGIN:VEVENT
DTSTART;TZID=Europe/Stockholm:20231026T173000
DTEND;TZID=Europe/Stockholm:20231026T220000
DTSTAMP:20260424T115848
CREATED:20230307T084746Z
LAST-MODIFIED:20230307T084746Z
UID:412-1698341400-1698357600@ka2samverkan.se
SUMMARY:KA 2 kf Höstmöte SOSK
DESCRIPTION:
URL:https://ka2samverkan.se/event/ka-2-kf-hostmote-sosk/
CATEGORIES:KA 2 Kamratförening
END:VEVENT
BEGIN:VEVENT
DTSTART;TZID=Europe/Stockholm:20231023T100000
DTEND;TZID=Europe/Stockholm:20231023T120000
DTSTAMP:20260424T115848
CREATED:20231003T133653Z
LAST-MODIFIED:20231003T133653Z
UID:828-1698055200-1698062400@ka2samverkan.se
SUMMARY:BHVS: Måndagsmöte Rosenholm
DESCRIPTION:
URL:https://ka2samverkan.se/event/bhvs-mandagsmote-rosenholm-2/
END:VEVENT
END:VCALENDAR