BEGIN:VCALENDAR
VERSION:2.0
PRODID:-//KA2 Samverkansgrupp - ECPv6.15.20//NONSGML v1.0//EN
CALSCALE:GREGORIAN
METHOD:PUBLISH
X-WR-CALNAME:KA2 Samverkansgrupp
X-ORIGINAL-URL:https://ka2samverkan.se
X-WR-CALDESC:Händelser för KA2 Samverkansgrupp
REFRESH-INTERVAL;VALUE=DURATION:PT1H
X-Robots-Tag:noindex
X-PUBLISHED-TTL:PT1H
BEGIN:VTIMEZONE
TZID:Europe/Stockholm
BEGIN:DAYLIGHT
TZOFFSETFROM:+0100
TZOFFSETTO:+0200
TZNAME:CEST
DTSTART:20220327T010000
END:DAYLIGHT
BEGIN:STANDARD
TZOFFSETFROM:+0200
TZOFFSETTO:+0100
TZNAME:CET
DTSTART:20221030T010000
END:STANDARD
BEGIN:DAYLIGHT
TZOFFSETFROM:+0100
TZOFFSETTO:+0200
TZNAME:CEST
DTSTART:20230326T010000
END:DAYLIGHT
BEGIN:STANDARD
TZOFFSETFROM:+0200
TZOFFSETTO:+0100
TZNAME:CET
DTSTART:20231029T010000
END:STANDARD
BEGIN:DAYLIGHT
TZOFFSETFROM:+0100
TZOFFSETTO:+0200
TZNAME:CEST
DTSTART:20240331T010000
END:DAYLIGHT
BEGIN:STANDARD
TZOFFSETFROM:+0200
TZOFFSETTO:+0100
TZNAME:CET
DTSTART:20241027T010000
END:STANDARD
END:VTIMEZONE
BEGIN:VEVENT
DTSTART;VALUE=DATE:20230529
DTEND;VALUE=DATE:20230530
DTSTAMP:20260424T194445
CREATED:20230303T131658Z
LAST-MODIFIED:20230303T131658Z
UID:259-1685318400-1685404799@ka2samverkan.se
SUMMARY:Veterandagen
DESCRIPTION:KA 2 Kamratförening firar veterandagen… \nMer information kommer
URL:https://ka2samverkan.se/event/veterandagen/
CATEGORIES:KA 2 Kamratförening
END:VEVENT
BEGIN:VEVENT
DTSTART;TZID=Europe/Stockholm:20230521T120000
DTEND;TZID=Europe/Stockholm:20230521T160000
DTSTAMP:20260424T194445
CREATED:20230307T082047Z
LAST-MODIFIED:20230307T082047Z
UID:362-1684670400-1684684800@ka2samverkan.se
SUMMARY:BHVS Museum RH - Öppet
DESCRIPTION:
URL:https://ka2samverkan.se/event/bhvs-museum-rh-oppet-3/
CATEGORIES:BHVS
END:VEVENT
BEGIN:VEVENT
DTSTART;TZID=Europe/Stockholm:20230516T170000
DTEND;TZID=Europe/Stockholm:20230516T200000
DTSTAMP:20260424T194445
CREATED:20230331T072922Z
LAST-MODIFIED:20230331T072922Z
UID:460-1684256400-1684267200@ka2samverkan.se
SUMMARY:Styrelsemöte - Rörl museum
DESCRIPTION:
URL:https://ka2samverkan.se/event/styrelsemote-rorl-museum/
LOCATION:SAGA
CATEGORIES:Rörliga Museet
END:VEVENT
BEGIN:VEVENT
DTSTART;TZID=Europe/Stockholm:20230512T150000
DTEND;TZID=Europe/Stockholm:20230512T150000
DTSTAMP:20260424T194445
CREATED:20230504T083348Z
LAST-MODIFIED:20230504T083348Z
UID:581-1683903600-1683903600@ka2samverkan.se
SUMMARY:Fortchefs-middag KH
DESCRIPTION:Kl 1500 KUNGSHOLMEN
URL:https://ka2samverkan.se/event/fortchefs-middag-kh/
END:VEVENT
BEGIN:VEVENT
DTSTART;TZID=Europe/Stockholm:20230512T120000
DTEND;TZID=Europe/Stockholm:20230512T133000
DTSTAMP:20260424T194445
CREATED:20230504T081504Z
LAST-MODIFIED:20230504T081504Z
UID:576-1683892800-1683898200@ka2samverkan.se
SUMMARY:KA 2 Samverkansgrupp
DESCRIPTION:Möte kl 1200 i FREJA
URL:https://ka2samverkan.se/event/ka-2-samverkansgrupp/
CATEGORIES:KA 2 Samverkansgrupp
END:VEVENT
BEGIN:VEVENT
DTSTART;TZID=Europe/Stockholm:20230512T100000
DTEND;TZID=Europe/Stockholm:20230512T113000
DTSTAMP:20260424T194445
CREATED:20230504T081209Z
LAST-MODIFIED:20230504T081209Z
UID:574-1683885600-1683891000@ka2samverkan.se
SUMMARY:KA 2 Kamratförening
DESCRIPTION:Styrelsemöte kl 1000 i FREJA
URL:https://ka2samverkan.se/event/ka-2-kamratforening/
CATEGORIES:KA 2 Kamratförening
END:VEVENT
BEGIN:VEVENT
DTSTART;TZID=Europe/Stockholm:20230512T093000
DTEND;TZID=Europe/Stockholm:20230512T100000
DTSTAMP:20260424T194445
CREATED:20230320T121803Z
LAST-MODIFIED:20230504T080825Z
UID:423-1683883800-1683885600@ka2samverkan.se
SUMMARY:Redaktionskommittén KUSTPOSTEN
DESCRIPTION:Kl 0930 i FREJA
URL:https://ka2samverkan.se/event/arsmote/
CATEGORIES:KA 2 Kamratförening
END:VEVENT
BEGIN:VEVENT
DTSTART;TZID=Europe/Stockholm:20230509T140000
DTEND;TZID=Europe/Stockholm:20230509T160000
DTSTAMP:20260424T194445
CREATED:20230307T083911Z
LAST-MODIFIED:20230307T083911Z
UID:392-1683640800-1683648000@ka2samverkan.se
SUMMARY:KA 2 Kamratträff SAGA
DESCRIPTION:
URL:https://ka2samverkan.se/event/ka-2-kamrattraff-saga-2/
CATEGORIES:KA 2 Kamratförening,Lokalbokning SAGA
END:VEVENT
BEGIN:VEVENT
DTSTART;TZID=Europe/Stockholm:20230505T113000
DTEND;TZID=Europe/Stockholm:20230505T130000
DTSTAMP:20260424T194445
CREATED:20230331T075310Z
LAST-MODIFIED:20230504T082154Z
UID:488-1683286200-1683291600@ka2samverkan.se
SUMMARY:Månadslunch - Villa Oscar
DESCRIPTION:Kl 1130 Villa Oscar
URL:https://ka2samverkan.se/event/manadslunch-ka-samvgrp/
LOCATION:Villa Oscar Gräsvik
CATEGORIES:KA 2 Samverkansgrupp
END:VEVENT
BEGIN:VEVENT
DTSTART;TZID=Europe/Stockholm:20230504T140000
DTEND;TZID=Europe/Stockholm:20230504T170000
DTSTAMP:20260424T194445
CREATED:20230411T061452Z
LAST-MODIFIED:20230504T084537Z
UID:531-1683208800-1683219600@ka2samverkan.se
SUMMARY:Månadsmöte FREJA - KA 2 Muldiv
DESCRIPTION:1400 Styrelsemöte\n1500 Medlemsmöte
URL:https://ka2samverkan.se/event/manadsmote-saga-ka-2-muldiv/
CATEGORIES:Lokalbokning SAGA,MULDIV
END:VEVENT
BEGIN:VEVENT
DTSTART;TZID=Europe/Stockholm:20230502T093000
DTEND;TZID=Europe/Stockholm:20230502T110000
DTSTAMP:20260424T194445
CREATED:20230331T074321Z
LAST-MODIFIED:20230331T074321Z
UID:478-1683019800-1683025200@ka2samverkan.se
SUMMARY:Kamratträff - Rörl Museum
DESCRIPTION:
URL:https://ka2samverkan.se/event/kamrattraff-rorl-museum-2/
LOCATION:Nellys Café
CATEGORIES:Rörliga Museet
END:VEVENT
BEGIN:VEVENT
DTSTART;TZID=Europe/Stockholm:20230425T170000
DTEND;TZID=Europe/Stockholm:20230425T200000
DTSTAMP:20260424T194445
CREATED:20230331T072704Z
LAST-MODIFIED:20230331T073746Z
UID:458-1682442000-1682452800@ka2samverkan.se
SUMMARY:Styrelsemöte - Rörl Museum
DESCRIPTION:
URL:https://ka2samverkan.se/event/styrelsemote-rorl-museeum/
LOCATION:SAGA
CATEGORIES:Rörliga Museet
END:VEVENT
BEGIN:VEVENT
DTSTART;TZID=Europe/Stockholm:20230424T170000
DTEND;TZID=Europe/Stockholm:20230424T190000
DTSTAMP:20260424T194445
CREATED:20230320T121514Z
LAST-MODIFIED:20230320T122825Z
UID:421-1682355600-1682362800@ka2samverkan.se
SUMMARY:MALI - insats under avveckling
DESCRIPTION:Amiralitetspastor Daniel Breimert om insatsen i Mali 16.\nPlats: Församlingshemmet\, Vallgatan 16 Karlskrona
URL:https://ka2samverkan.se/event/mali-insats-under-avveckling/
CATEGORIES:SVEROF
END:VEVENT
BEGIN:VEVENT
DTSTART;TZID=Europe/Stockholm:20230421T180000
DTEND;TZID=Europe/Stockholm:20230421T220000
DTSTAMP:20260424T194445
CREATED:20230303T152700Z
LAST-MODIFIED:20230303T153515Z
UID:316-1682100000-1682114400@ka2samverkan.se
SUMMARY:SVEROF Föreningsmiddag (se särskild inbjudan)
DESCRIPTION:
URL:https://ka2samverkan.se/event/foreningsmiddag-se-sarskild-inbjudan/
CATEGORIES:SVEROF
END:VEVENT
BEGIN:VEVENT
DTSTART;TZID=Europe/Stockholm:20230421T150000
DTEND;TZID=Europe/Stockholm:20230421T180000
DTSTAMP:20260424T194445
CREATED:20230303T151806Z
LAST-MODIFIED:20230303T151900Z
UID:311-1682089200-1682100000@ka2samverkan.se
SUMMARY:OS KA 2 Trivselafton FYLGIA
DESCRIPTION:
URL:https://ka2samverkan.se/event/os-ka-2-trivselafton-fylgia/
CATEGORIES:OS KA2
END:VEVENT
BEGIN:VEVENT
DTSTART;TZID=Europe/Stockholm:20230416T120000
DTEND;TZID=Europe/Stockholm:20230416T160000
DTSTAMP:20260424T194445
CREATED:20230307T081956Z
LAST-MODIFIED:20230307T081956Z
UID:360-1681646400-1681660800@ka2samverkan.se
SUMMARY:BHVS Museum RH - Öppet
DESCRIPTION:
URL:https://ka2samverkan.se/event/bhvs-museum-rh-oppet-2/
CATEGORIES:BHVS
END:VEVENT
BEGIN:VEVENT
DTSTART;TZID=Europe/Stockholm:20230415T120000
DTEND;TZID=Europe/Stockholm:20230415T160000
DTSTAMP:20260424T194445
CREATED:20230307T080303Z
LAST-MODIFIED:20230411T061946Z
UID:336-1681560000-1681574400@ka2samverkan.se
SUMMARY:Arbetsdag SAGA KA 2 Muldiv - INSTÄLLD
DESCRIPTION:
URL:https://ka2samverkan.se/event/arbetsdag-ka-2-muldiv/
LOCATION:SAGA
CATEGORIES:Lokalbokning SAGA,MULDIV
END:VEVENT
BEGIN:VEVENT
DTSTART;TZID=Europe/Stockholm:20230411T140000
DTEND;TZID=Europe/Stockholm:20230411T160000
DTSTAMP:20260424T194445
CREATED:20230307T083832Z
LAST-MODIFIED:20230411T093127Z
UID:390-1681221600-1681228800@ka2samverkan.se
SUMMARY:KA 2 Kamratträff SAGA - INSTÄLLT
DESCRIPTION:
URL:https://ka2samverkan.se/event/ka-2-kamrattraff-saga/
CATEGORIES:KA 2 Kamratförening,Lokalbokning SAGA
END:VEVENT
BEGIN:VEVENT
DTSTART;TZID=Europe/Stockholm:20230406T150000
DTEND;TZID=Europe/Stockholm:20230406T190000
DTSTAMP:20260424T194445
CREATED:20230307T080048Z
LAST-MODIFIED:20230307T080917Z
UID:333-1680793200-1680807600@ka2samverkan.se
SUMMARY:Månadsträff SAGA KA 2 Muldiv
DESCRIPTION:
URL:https://ka2samverkan.se/event/manadstraff/
CATEGORIES:Lokalbokning SAGA,MULDIV
END:VEVENT
BEGIN:VEVENT
DTSTART;TZID=Europe/Stockholm:20230404T150000
DTEND;TZID=Europe/Stockholm:20230404T190000
DTSTAMP:20260424T194445
CREATED:20230307T081012Z
LAST-MODIFIED:20230321T111534Z
UID:344-1680620400-1680634800@ka2samverkan.se
SUMMARY:Månadsträff SAGA
DESCRIPTION:KA 2 Muldiv
URL:https://ka2samverkan.se/event/manadstraff-saga/
CATEGORIES:Lokalbokning SAGA,MULDIV
END:VEVENT
BEGIN:VEVENT
DTSTART;TZID=Europe/Stockholm:20230404T093000
DTEND;TZID=Europe/Stockholm:20230404T110000
DTSTAMP:20260424T194445
CREATED:20230331T074219Z
LAST-MODIFIED:20230404T125234Z
UID:475-1680600600-1680606000@ka2samverkan.se
SUMMARY:Kamratträff - Rörl Museum
DESCRIPTION:Nellys Cafe
URL:https://ka2samverkan.se/event/kamrattraff-rorl-museum/
LOCATION:Nellys Café
CATEGORIES:Rörliga Museet
END:VEVENT
BEGIN:VEVENT
DTSTART;TZID=Europe/Stockholm:20230330T000000
DTEND;TZID=Europe/Stockholm:20230330T000000
DTSTAMP:20260424T194445
CREATED:20230330T123627Z
LAST-MODIFIED:20230330T123627Z
UID:440-1680134400-1680134400@ka2samverkan.se
SUMMARY:Styrelsemöte Rörliga Museet
DESCRIPTION:
URL:https://ka2samverkan.se/event/styrelsemote-rorliga-museet/
END:VEVENT
BEGIN:VEVENT
DTSTART;TZID=Europe/Stockholm:20230327T170000
DTEND;TZID=Europe/Stockholm:20230327T170000
DTSTAMP:20260424T194445
CREATED:20230303T151655Z
LAST-MODIFIED:20230303T151938Z
UID:309-1679936400-1679936400@ka2samverkan.se
SUMMARY:OS KA 2 Direktionsmöte SAGA
DESCRIPTION:
URL:https://ka2samverkan.se/event/os-ka-2-direktionsmote/
CATEGORIES:Lokalbokning SAGA
END:VEVENT
BEGIN:VEVENT
DTSTART;TZID=Europe/Stockholm:20230324T120000
DTEND;TZID=Europe/Stockholm:20230324T163000
DTSTAMP:20260424T194445
CREATED:20230303T150126Z
LAST-MODIFIED:20230313T152513Z
UID:305-1679659200-1679675400@ka2samverkan.se
SUMMARY:KA 2 Samverkansgrupp Styrelsemöte
DESCRIPTION:
URL:https://ka2samverkan.se/event/ka-2-samverkansgrupp-styrelsemote/
CATEGORIES:KA 2 Samverkansgrupp
END:VEVENT
BEGIN:VEVENT
DTSTART;TZID=Europe/Stockholm:20230324T100000
DTEND;TZID=Europe/Stockholm:20230324T113000
DTSTAMP:20260424T194446
CREATED:20230303T145347Z
LAST-MODIFIED:20230303T155225Z
UID:300-1679652000-1679657400@ka2samverkan.se
SUMMARY:KA 2 kf Styrelsemöte
DESCRIPTION:
URL:https://ka2samverkan.se/event/300/
CATEGORIES:KA 2 Kamratförening,Lokalbokning SAGA
END:VEVENT
BEGIN:VEVENT
DTSTART;TZID=Europe/Stockholm:20230319T120000
DTEND;TZID=Europe/Stockholm:20230319T160000
DTSTAMP:20260424T194446
CREATED:20230307T081915Z
LAST-MODIFIED:20230307T081915Z
UID:358-1679227200-1679241600@ka2samverkan.se
SUMMARY:BHVS Museum RH - Öppet
DESCRIPTION:
URL:https://ka2samverkan.se/event/bhvs-museum-rh-oppet/
CATEGORIES:BHVS
END:VEVENT
BEGIN:VEVENT
DTSTART;TZID=Europe/Stockholm:20230317T150000
DTEND;TZID=Europe/Stockholm:20230317T180000
DTSTAMP:20260424T194446
CREATED:20230303T151525Z
LAST-MODIFIED:20230303T152037Z
UID:307-1679065200-1679076000@ka2samverkan.se
SUMMARY:OS KA 2 Trivselafton FYLGIA
DESCRIPTION:
URL:https://ka2samverkan.se/event/os-ka-2-trivselafton/
CATEGORIES:OS KA2
END:VEVENT
BEGIN:VEVENT
DTSTART;TZID=Europe/Stockholm:20230315T180000
DTEND;TZID=Europe/Stockholm:20230315T220000
DTSTAMP:20260424T194446
CREATED:20230303T154016Z
LAST-MODIFIED:20230303T155438Z
UID:319-1678903200-1678917600@ka2samverkan.se
SUMMARY:Föreläsning "Rysslands angrepp på Ukraina" övlt Joakim Paasikivi
DESCRIPTION:Plats: AF\, Sandgatan i Lund
URL:https://ka2samverkan.se/event/forelasning-rysslands-angrepp-pa-ukraina-ovlt-j-paasikivi/
LOCATION:AF\, Sandgatan i LUND
CATEGORIES:SVEROF
END:VEVENT
BEGIN:VEVENT
DTSTART;TZID=Europe/Stockholm:20230314T173000
DTEND;TZID=Europe/Stockholm:20230314T200000
DTSTAMP:20260424T194446
CREATED:20230303T133733Z
LAST-MODIFIED:20230303T133733Z
UID:295-1678815000-1678824000@ka2samverkan.se
SUMMARY:Årsmöte KA 2 Museiförening
DESCRIPTION:Motorhallen Rosenholm
URL:https://ka2samverkan.se/event/arsmote-ka-2-museiforening/
LOCATION:AF\, Sandgatan i LUND
CATEGORIES:Rörliga Museet
END:VEVENT
BEGIN:VEVENT
DTSTART;TZID=Europe/Stockholm:20230314T140000
DTEND;TZID=Europe/Stockholm:20230314T170000
DTSTAMP:20260424T194446
CREATED:20230303T154843Z
LAST-MODIFIED:20230303T154924Z
UID:326-1678802400-1678813200@ka2samverkan.se
SUMMARY:KA 2 Kamratträff
DESCRIPTION:
URL:https://ka2samverkan.se/event/ka-2-kamrattraff/
CATEGORIES:KA 2 Kamratförening,Lokalbokning SAGA
END:VEVENT
END:VCALENDAR