BEGIN:VCALENDAR
VERSION:2.0
PRODID:-//KA2 Samverkansgrupp - ECPv6.15.20//NONSGML v1.0//EN
CALSCALE:GREGORIAN
METHOD:PUBLISH
X-WR-CALNAME:KA2 Samverkansgrupp
X-ORIGINAL-URL:https://ka2samverkan.se
X-WR-CALDESC:Händelser för KA2 Samverkansgrupp
REFRESH-INTERVAL;VALUE=DURATION:PT1H
X-Robots-Tag:noindex
X-PUBLISHED-TTL:PT1H
BEGIN:VTIMEZONE
TZID:Europe/Stockholm
BEGIN:DAYLIGHT
TZOFFSETFROM:+0100
TZOFFSETTO:+0200
TZNAME:CEST
DTSTART:20230326T010000
END:DAYLIGHT
BEGIN:STANDARD
TZOFFSETFROM:+0200
TZOFFSETTO:+0100
TZNAME:CET
DTSTART:20231029T010000
END:STANDARD
BEGIN:DAYLIGHT
TZOFFSETFROM:+0100
TZOFFSETTO:+0200
TZNAME:CEST
DTSTART:20240331T010000
END:DAYLIGHT
BEGIN:STANDARD
TZOFFSETFROM:+0200
TZOFFSETTO:+0100
TZNAME:CET
DTSTART:20241027T010000
END:STANDARD
BEGIN:DAYLIGHT
TZOFFSETFROM:+0100
TZOFFSETTO:+0200
TZNAME:CEST
DTSTART:20250330T010000
END:DAYLIGHT
BEGIN:STANDARD
TZOFFSETFROM:+0200
TZOFFSETTO:+0100
TZNAME:CET
DTSTART:20251026T010000
END:STANDARD
BEGIN:DAYLIGHT
TZOFFSETFROM:+0100
TZOFFSETTO:+0200
TZNAME:CEST
DTSTART:20260329T010000
END:DAYLIGHT
BEGIN:STANDARD
TZOFFSETFROM:+0200
TZOFFSETTO:+0100
TZNAME:CET
DTSTART:20261025T010000
END:STANDARD
END:VTIMEZONE
BEGIN:VEVENT
DTSTART;TZID=Europe/Stockholm:20250408T090000
DTEND;TZID=Europe/Stockholm:20250408T130000
DTSTAMP:20260422T001138
CREATED:20241120T114154Z
LAST-MODIFIED:20241120T114154Z
UID:1626-1744102800-1744117200@ka2samverkan.se
SUMMARY:Flottans Män
DESCRIPTION:
URL:https://ka2samverkan.se/event/flottans-man-5/
CATEGORIES:Lokalbokning SAGA
END:VEVENT
BEGIN:VEVENT
DTSTART;TZID=Europe/Stockholm:20250403T130000
DTEND;TZID=Europe/Stockholm:20250403T190000
DTSTAMP:20260422T001138
CREATED:20241108T092620Z
LAST-MODIFIED:20241108T093846Z
UID:1592-1743685200-1743706800@ka2samverkan.se
SUMMARY:KA 2 Muldiv
DESCRIPTION:Styrelsemöte kl 1300-1500 \nMånadsträff kl 1500-1900
URL:https://ka2samverkan.se/event/ka-2-muldiv-3/
LOCATION:SAGA
CATEGORIES:MULDIV
END:VEVENT
BEGIN:VEVENT
DTSTART;TZID=Europe/Stockholm:20250401T170000
DTEND;TZID=Europe/Stockholm:20250401T190000
DTSTAMP:20260422T001138
CREATED:20241108T085933Z
LAST-MODIFIED:20241108T085933Z
UID:1552-1743526800-1743534000@ka2samverkan.se
SUMMARY:OS KA 2 Direktion
DESCRIPTION:
URL:https://ka2samverkan.se/event/os-ka-2-direktion/
LOCATION:SAGA
CATEGORIES:OS KA 2
END:VEVENT
BEGIN:VEVENT
DTSTART;TZID=Europe/Stockholm:20250326T163000
DTEND;TZID=Europe/Stockholm:20250326T200000
DTSTAMP:20260422T001138
CREATED:20241108T091323Z
LAST-MODIFIED:20250314T171826Z
UID:1570-1743006600-1743019200@ka2samverkan.se
SUMMARY:Museum Rörl KA
DESCRIPTION:
URL:https://ka2samverkan.se/event/museum-rorl-ka-3/
LOCATION:SAGA
CATEGORIES:Rörliga Museet
END:VEVENT
BEGIN:VEVENT
DTSTART;TZID=Europe/Stockholm:20250314T150000
DTEND;TZID=Europe/Stockholm:20250314T180000
DTSTAMP:20260422T001138
CREATED:20241108T085819Z
LAST-MODIFIED:20241108T085819Z
UID:1550-1741964400-1741975200@ka2samverkan.se
SUMMARY:OS KA 2 Trivselafton
DESCRIPTION:
URL:https://ka2samverkan.se/event/os-ka-2-trivselafton-2/
LOCATION:SAGA
CATEGORIES:OS KA 2
END:VEVENT
BEGIN:VEVENT
DTSTART;TZID=Europe/Stockholm:20250311T090000
DTEND;TZID=Europe/Stockholm:20250311T130000
DTSTAMP:20260422T001138
CREATED:20241120T114106Z
LAST-MODIFIED:20241120T114106Z
UID:1624-1741683600-1741698000@ka2samverkan.se
SUMMARY:Flottans Män
DESCRIPTION:
URL:https://ka2samverkan.se/event/flottans-man-4/
CATEGORIES:Lokalbokning SAGA
END:VEVENT
BEGIN:VEVENT
DTSTART;TZID=Europe/Stockholm:20250306T150000
DTEND;TZID=Europe/Stockholm:20250306T190000
DTSTAMP:20260422T001138
CREATED:20241108T092512Z
LAST-MODIFIED:20241108T092512Z
UID:1590-1741273200-1741287600@ka2samverkan.se
SUMMARY:KA 2 Muldiv
DESCRIPTION:Månadsträff med ärtsoppa kl 1600
URL:https://ka2samverkan.se/event/ka-2-muldiv-2/
LOCATION:SAGA
CATEGORIES:MULDIV
END:VEVENT
BEGIN:VEVENT
DTSTART;VALUE=DATE:20250301
DTEND;VALUE=DATE:20250303
DTSTAMP:20260422T001138
CREATED:20250203T141220Z
LAST-MODIFIED:20250203T141220Z
UID:1683-1740787200-1740959999@ka2samverkan.se
SUMMARY:3.Hkpdiv
DESCRIPTION:3.Hkpdiv\, kn Adam Brus\n072-220 55 44
URL:https://ka2samverkan.se/event/3-hkpdiv/
LOCATION:SAGA
CATEGORIES:Lokalbokning SAGA
END:VEVENT
BEGIN:VEVENT
DTSTART;TZID=Europe/Stockholm:20250218T100000
DTEND;TZID=Europe/Stockholm:20250218T120000
DTSTAMP:20260422T001138
CREATED:20250212T161042Z
LAST-MODIFIED:20250212T161053Z
UID:1691-1739872800-1739880000@ka2samverkan.se
SUMMARY:AG  Museigrupp KH Fort
DESCRIPTION:Rolf Lindén\n070-728 52 34
URL:https://ka2samverkan.se/event/ag-ka-2-museigrupp-kh-fort/
LOCATION:SAGA
CATEGORIES:KA 2 Samverkansgrupp
END:VEVENT
BEGIN:VEVENT
DTSTART;TZID=Europe/Stockholm:20250211T160000
DTEND;TZID=Europe/Stockholm:20250211T200000
DTSTAMP:20260422T001138
CREATED:20241108T090904Z
LAST-MODIFIED:20241108T091011Z
UID:1564-1739289600-1739304000@ka2samverkan.se
SUMMARY:Museum rörl ka
DESCRIPTION:Styrelsemöte
URL:https://ka2samverkan.se/event/museum-rorl-ka/
LOCATION:SAGA
CATEGORIES:Rörliga Museet
END:VEVENT
BEGIN:VEVENT
DTSTART;TZID=Europe/Stockholm:20250211T090000
DTEND;TZID=Europe/Stockholm:20250211T130000
DTSTAMP:20260422T001138
CREATED:20241120T113630Z
LAST-MODIFIED:20241120T113630Z
UID:1621-1739264400-1739278800@ka2samverkan.se
SUMMARY:Flottans Män
DESCRIPTION:
URL:https://ka2samverkan.se/event/flottans-man-3/
CATEGORIES:Lokalbokning SAGA
END:VEVENT
BEGIN:VEVENT
DTSTART;TZID=Europe/Stockholm:20250206T130000
DTEND;TZID=Europe/Stockholm:20250206T190000
DTSTAMP:20260422T001138
CREATED:20241108T092356Z
LAST-MODIFIED:20241108T093732Z
UID:1588-1738846800-1738868400@ka2samverkan.se
SUMMARY:KA 2 Muldiv
DESCRIPTION:Styrelsemöte kl 1300-1500 \nMånadsträff kl 1500-1900
URL:https://ka2samverkan.se/event/ka-2-muldiv/
LOCATION:SAGA
CATEGORIES:MULDIV
END:VEVENT
BEGIN:VEVENT
DTSTART;TZID=Europe/Stockholm:20250205T110000
DTEND;TZID=Europe/Stockholm:20250205T140000
DTSTAMP:20260422T001138
CREATED:20250203T141428Z
LAST-MODIFIED:20250203T141428Z
UID:1685-1738753200-1738764000@ka2samverkan.se
SUMMARY:Flottans Män
DESCRIPTION:
URL:https://ka2samverkan.se/event/flottans-man-15/
CATEGORIES:Lokalbokning SAGA
END:VEVENT
BEGIN:VEVENT
DTSTART;TZID=Europe/Stockholm:20250121T170000
DTEND;TZID=Europe/Stockholm:20250121T170000
DTSTAMP:20260422T001138
CREATED:20241108T085657Z
LAST-MODIFIED:20241108T085657Z
UID:1548-1737478800-1737478800@ka2samverkan.se
SUMMARY:OS KA 2 Dirmöte
DESCRIPTION:
URL:https://ka2samverkan.se/event/os-ka-2-dirmote/
LOCATION:SAGA
CATEGORIES:OS KA 2
END:VEVENT
BEGIN:VEVENT
DTSTART;TZID=Europe/Stockholm:20250114T160000
DTEND;TZID=Europe/Stockholm:20250114T200000
DTSTAMP:20260422T001138
CREATED:20241108T091220Z
LAST-MODIFIED:20241120T140402Z
UID:1568-1736870400-1736884800@ka2samverkan.se
SUMMARY:Museum Rörl KA
DESCRIPTION:Styrelsemöte
URL:https://ka2samverkan.se/event/museum-rorl-ka-2/
LOCATION:SAGA
CATEGORIES:Rörliga Museet
END:VEVENT
BEGIN:VEVENT
DTSTART;TZID=Europe/Stockholm:20250114T090000
DTEND;TZID=Europe/Stockholm:20250114T130000
DTSTAMP:20260422T001138
CREATED:20241120T140453Z
LAST-MODIFIED:20241120T140453Z
UID:1645-1736845200-1736859600@ka2samverkan.se
SUMMARY:Flottans Män
DESCRIPTION:
URL:https://ka2samverkan.se/event/flottans-man-14/
CATEGORIES:Lokalbokning SAGA
END:VEVENT
BEGIN:VEVENT
DTSTART;TZID=Europe/Stockholm:20241217T160000
DTEND;TZID=Europe/Stockholm:20241217T220000
DTSTAMP:20260422T001138
CREATED:20240918T093558Z
LAST-MODIFIED:20240918T093558Z
UID:1525-1734451200-1734472800@ka2samverkan.se
SUMMARY:KKKK Spelkväll
DESCRIPTION:Kl 1600-2200
URL:https://ka2samverkan.se/event/kkkk-spelkvall/
CATEGORIES:KKKK
END:VEVENT
BEGIN:VEVENT
DTSTART;TZID=Europe/Stockholm:20241212T160000
DTEND;TZID=Europe/Stockholm:20241212T230000
DTSTAMP:20260422T001138
CREATED:20231203T162330Z
LAST-MODIFIED:20231203T162330Z
UID:1023-1734019200-1734044400@ka2samverkan.se
SUMMARY:Julhälsning i SAGA
DESCRIPTION:KA 2 Muldiv
URL:https://ka2samverkan.se/event/julhalsning-i-saga/
LOCATION:SAGA
CATEGORIES:MULDIV
END:VEVENT
BEGIN:VEVENT
DTSTART;TZID=Europe/Stockholm:20241210T170000
DTEND;TZID=Europe/Stockholm:20241210T200000
DTSTAMP:20260422T001138
CREATED:20231221T085629Z
LAST-MODIFIED:20231221T085629Z
UID:1089-1733850000-1733860800@ka2samverkan.se
SUMMARY:Museum för rörligt kustartilleri
DESCRIPTION:Styrelsemöte i SAGA
URL:https://ka2samverkan.se/event/museum-for-rorligt-kustartilleri-12/
LOCATION:SAGA
CATEGORIES:Rörliga Museet
END:VEVENT
BEGIN:VEVENT
DTSTART;VALUE=DATE:20241209
DTEND;VALUE=DATE:20241210
DTSTAMP:20260422T001138
CREATED:20240317T162446Z
LAST-MODIFIED:20240317T162632Z
UID:1284-1733702400-1733788799@ka2samverkan.se
SUMMARY:Flottans Män
DESCRIPTION:Heldag bokad
URL:https://ka2samverkan.se/event/flottans-man-2/
LOCATION:SAGA
CATEGORIES:Lokalbokning SAGA
END:VEVENT
BEGIN:VEVENT
DTSTART;TZID=Europe/Stockholm:20241206T160000
DTEND;TZID=Europe/Stockholm:20241206T233000
DTSTAMP:20260422T001138
CREATED:20231205T133440Z
LAST-MODIFIED:20231206T085247Z
UID:1040-1733500800-1733527800@ka2samverkan.se
SUMMARY:5.batt Julhälsning
DESCRIPTION:Freija alt Saga\nAnsv: Tommy Erlandsson\n070-650 69 21
URL:https://ka2samverkan.se/event/5-batt-julhalsning/
LOCATION:SAGA
CATEGORIES:Lokalbokning SAGA
END:VEVENT
BEGIN:VEVENT
DTSTART;TZID=Europe/Stockholm:20241206T111500
DTEND;TZID=Europe/Stockholm:20241206T130000
DTSTAMP:20260422T001138
CREATED:20240811T142928Z
LAST-MODIFIED:20240811T143207Z
UID:1488-1733483700-1733490000@ka2samverkan.se
SUMMARY:KA2 Samvgrp
DESCRIPTION:
URL:https://ka2samverkan.se/event/ka2-samvgrp/
CATEGORIES:KA 2 Samverkansgrupp
END:VEVENT
BEGIN:VEVENT
DTSTART;TZID=Europe/Stockholm:20241206T100000
DTEND;TZID=Europe/Stockholm:20241206T110000
DTSTAMP:20260422T001138
CREATED:20240811T143102Z
LAST-MODIFIED:20240811T143102Z
UID:1490-1733479200-1733482800@ka2samverkan.se
SUMMARY:KA 2 kf
DESCRIPTION:
URL:https://ka2samverkan.se/event/ka-2-kf-2/
CATEGORIES:KA 2 Kamratförening
END:VEVENT
BEGIN:VEVENT
DTSTART;VALUE=DATE:20241129
DTEND;VALUE=DATE:20241202
DTSTAMP:20260422T001138
CREATED:20240814T101941Z
LAST-MODIFIED:20240814T101941Z
UID:1492-1732838400-1733097599@ka2samverkan.se
SUMMARY:Sjövärnskåren
DESCRIPTION:Kontaktman: Adam Brus 072-220 55 44
URL:https://ka2samverkan.se/event/sjovarnskaren/
LOCATION:SAGA
CATEGORIES:Lokalbokning SAGA
END:VEVENT
BEGIN:VEVENT
DTSTART;TZID=Europe/Stockholm:20241126T170000
DTEND;TZID=Europe/Stockholm:20241126T200000
DTSTAMP:20260422T001138
CREATED:20231221T085519Z
LAST-MODIFIED:20231221T085519Z
UID:1087-1732640400-1732651200@ka2samverkan.se
SUMMARY:Museum för rörligt kustartilleri
DESCRIPTION:Styrelsemöte i SAGA
URL:https://ka2samverkan.se/event/museum-for-rorligt-kustartilleri-11/
LOCATION:SAGA
CATEGORIES:Rörliga Museet
END:VEVENT
BEGIN:VEVENT
DTSTART;TZID=Europe/Stockholm:20241119T170000
DTEND;TZID=Europe/Stockholm:20241119T190000
DTSTAMP:20260422T001138
CREATED:20240111T091156Z
LAST-MODIFIED:20240811T142558Z
UID:1118-1732035600-1732042800@ka2samverkan.se
SUMMARY:OS KA 2 Direktionsmöte
DESCRIPTION:
URL:https://ka2samverkan.se/event/os-ka-2-direktionsmote-6/
LOCATION:SAGA
CATEGORIES:Lokalbokning SAGA,OS KA 2
END:VEVENT
BEGIN:VEVENT
DTSTART;TZID=Europe/Stockholm:20241112T090000
DTEND;TZID=Europe/Stockholm:20241112T130000
DTSTAMP:20260422T001138
CREATED:20240317T162351Z
LAST-MODIFIED:20240317T162351Z
UID:1282-1731402000-1731416400@ka2samverkan.se
SUMMARY:Styrelsemöte Flottans Män
DESCRIPTION:kl 0900–1300
URL:https://ka2samverkan.se/event/styrelsemote-flottans-man-6/
LOCATION:SAGA
CATEGORIES:Lokalbokning SAGA
END:VEVENT
BEGIN:VEVENT
DTSTART;TZID=Europe/Stockholm:20241107T130000
DTEND;TZID=Europe/Stockholm:20241107T180000
DTSTAMP:20260422T001138
CREATED:20231203T162208Z
LAST-MODIFIED:20240613T125128Z
UID:1021-1730984400-1731002400@ka2samverkan.se
SUMMARY:Månadsträff i SAGA
DESCRIPTION:KA 2 Muldiv
URL:https://ka2samverkan.se/event/manadstraff-i-saga-8/
LOCATION:SAGA
CATEGORIES:MULDIV
END:VEVENT
BEGIN:VEVENT
DTSTART;TZID=Europe/Stockholm:20241029T170000
DTEND;TZID=Europe/Stockholm:20241029T200000
DTSTAMP:20260422T001138
CREATED:20231221T085425Z
LAST-MODIFIED:20231221T085425Z
UID:1085-1730221200-1730232000@ka2samverkan.se
SUMMARY:Museum för rörligt kustartilleri
DESCRIPTION:Styrelsemöte i SAGA
URL:https://ka2samverkan.se/event/museum-for-rorligt-kustartilleri-10/
LOCATION:SAGA
CATEGORIES:Rörliga Museet
END:VEVENT
BEGIN:VEVENT
DTSTART;TZID=Europe/Stockholm:20241025T150000
DTEND;TZID=Europe/Stockholm:20241025T180000
DTSTAMP:20260422T001138
CREATED:20240111T091045Z
LAST-MODIFIED:20240111T091045Z
UID:1116-1729868400-1729879200@ka2samverkan.se
SUMMARY:OS KA 2 Trivselmöte
DESCRIPTION:
URL:https://ka2samverkan.se/event/os-ka-2-trivselmote-3/
LOCATION:SAGA
CATEGORIES:Lokalbokning SAGA,OS KA 2
END:VEVENT
END:VCALENDAR