BEGIN:VCALENDAR
VERSION:2.0
PRODID:-//KA2 Samverkansgrupp - ECPv6.15.20//NONSGML v1.0//EN
CALSCALE:GREGORIAN
METHOD:PUBLISH
X-ORIGINAL-URL:https://ka2samverkan.se
X-WR-CALDESC:Händelser för KA2 Samverkansgrupp
REFRESH-INTERVAL;VALUE=DURATION:PT1H
X-Robots-Tag:noindex
X-PUBLISHED-TTL:PT1H
BEGIN:VTIMEZONE
TZID:Europe/Stockholm
BEGIN:DAYLIGHT
TZOFFSETFROM:+0100
TZOFFSETTO:+0200
TZNAME:CEST
DTSTART:20250330T010000
END:DAYLIGHT
BEGIN:STANDARD
TZOFFSETFROM:+0200
TZOFFSETTO:+0100
TZNAME:CET
DTSTART:20251026T010000
END:STANDARD
BEGIN:DAYLIGHT
TZOFFSETFROM:+0100
TZOFFSETTO:+0200
TZNAME:CEST
DTSTART:20260329T010000
END:DAYLIGHT
BEGIN:STANDARD
TZOFFSETFROM:+0200
TZOFFSETTO:+0100
TZNAME:CET
DTSTART:20261025T010000
END:STANDARD
BEGIN:DAYLIGHT
TZOFFSETFROM:+0100
TZOFFSETTO:+0200
TZNAME:CEST
DTSTART:20270328T010000
END:DAYLIGHT
BEGIN:STANDARD
TZOFFSETFROM:+0200
TZOFFSETTO:+0100
TZNAME:CET
DTSTART:20271031T010000
END:STANDARD
END:VTIMEZONE
BEGIN:VEVENT
DTSTART;TZID=Europe/Stockholm:20260305T150000
DTEND;TZID=Europe/Stockholm:20260305T190000
DTSTAMP:20260421T153116
CREATED:20251112T133412Z
LAST-MODIFIED:20251112T133412Z
UID:1884-1772722800-1772737200@ka2samverkan.se
SUMMARY:KA 2 Muldiv\, Månadsträff
DESCRIPTION:
URL:https://ka2samverkan.se/event/ka-2-muldiv-manadstraff/
CATEGORIES:Lokalbokning SAGA
END:VEVENT
BEGIN:VEVENT
DTSTART;TZID=Europe/Stockholm:20260306T100000
DTEND;TZID=Europe/Stockholm:20260306T120000
DTSTAMP:20260421T153116
CREATED:20260103T111237Z
LAST-MODIFIED:20260103T111237Z
UID:1991-1772791200-1772798400@ka2samverkan.se
SUMMARY:KA 2 Kamratförening styrelsemöte
DESCRIPTION:sekr 0705-935479
URL:https://ka2samverkan.se/event/ka-2-kamratforening-styrelsemote-3/
CATEGORIES:Lokalbokning SAGA
END:VEVENT
BEGIN:VEVENT
DTSTART;VALUE=DATE:20260310
DTEND;VALUE=DATE:20260311
DTSTAMP:20260421T153116
CREATED:20260107T181556Z
LAST-MODIFIED:20260107T181556Z
UID:2001-1773100800-1773187199@ka2samverkan.se
SUMMARY:Rörl Museum
DESCRIPTION:Årsmöte
URL:https://ka2samverkan.se/event/rorl-museum-3/
LOCATION:SAGA
CATEGORIES:Lokalbokning SAGA
END:VEVENT
BEGIN:VEVENT
DTSTART;TZID=Europe/Stockholm:20260313T150000
DTEND;TZID=Europe/Stockholm:20260313T180000
DTSTAMP:20260421T153116
CREATED:20260126T100521Z
LAST-MODIFIED:20260126T100521Z
UID:2038-1773414000-1773424800@ka2samverkan.se
SUMMARY:OS KA2
DESCRIPTION:Trivselafton
URL:https://ka2samverkan.se/event/os-ka2/
LOCATION:SAGA
CATEGORIES:Lokalbokning SAGA
END:VEVENT
BEGIN:VEVENT
DTSTART;TZID=Europe/Stockholm:20260317T170000
DTEND;TZID=Europe/Stockholm:20260317T200000
DTSTAMP:20260421T153116
CREATED:20260107T181942Z
LAST-MODIFIED:20260107T181942Z
UID:2003-1773766800-1773777600@ka2samverkan.se
SUMMARY:Rörl Museum
DESCRIPTION:Styrelsemöte
URL:https://ka2samverkan.se/event/rorl-museum-4/
LOCATION:SAGA
CATEGORIES:Lokalbokning SAGA
END:VEVENT
BEGIN:VEVENT
DTSTART;TZID=Europe/Stockholm:20260320T100000
DTEND;TZID=Europe/Stockholm:20260320T120000
DTSTAMP:20260421T153116
CREATED:20260227T100852Z
LAST-MODIFIED:20260227T100852Z
UID:2077-1774000800-1774008000@ka2samverkan.se
SUMMARY:Samverkansgruppen
DESCRIPTION:
URL:https://ka2samverkan.se/event/samverkansgruppen/
LOCATION:SAGA
CATEGORIES:KA 2 Samverkansgrupp
END:VEVENT
BEGIN:VEVENT
DTSTART;TZID=Europe/Stockholm:20260323T100000
DTEND;TZID=Europe/Stockholm:20260323T120000
DTSTAMP:20260421T153116
CREATED:20260316T160511Z
LAST-MODIFIED:20260316T160511Z
UID:2089-1774260000-1774267200@ka2samverkan.se
SUMMARY:BHVS
DESCRIPTION:
URL:https://ka2samverkan.se/event/bhvs/
CATEGORIES:Lokalbokning SAGA
END:VEVENT
END:VCALENDAR